{
 "currentVersion": 10.22,
 "serviceDescription": "Webmap describing a potential future global food scenario",
 "mapName": "Layers",
 "description": "",
 "copyrightText": "",
 "supportsDynamicLayers": false,
 "layers": [
  {
   "id": 0,
   "name": "Calories Produced",
   "parentLayerId": -1,
   "defaultVisibility": true,
   "subLayerIds": null,
   "minScale": 295828765,
   "maxScale": 1155581.108577
  }
 ],
 "tables": [],
 "spatialReference": {
  "wkid": 54042,
  "latestWkid": 54042
 },
 "singleFusedMapCache": true,
 "tileInfo": {
  "rows": 512,
  "cols": 512,
  "dpi": 96,
  "format": "PNG",
  "compressionQuality": 0,
  "origin": {
   "x": -1.803550816126541E7,
   "y": 2.505038728399674E7
  },
  "spatialReference": {
   "wkid": 54042,
   "latestWkid": 54042
  },
  "lods": [
   {
    "level": 0,
    "resolution": 39091.947994829236,
    "scale": 1.47748799285417E8
   },
   {
    "level": 1,
    "resolution": 19545.973997414672,
    "scale": 7.38743996427087E7
   },
   {
    "level": 2,
    "resolution": 9772.986998707349,
    "scale": 3.69371998213544E7
   },
   {
    "level": 3,
    "resolution": 4886.493499353674,
    "scale": 1.84685999106772E7
   },
   {
    "level": 4,
    "resolution": 2443.246749676835,
    "scale": 9234299.95533859
   },
   {
    "level": 5,
    "resolution": 1221.623374838416,
    "scale": 4617149.97766929
   },
   {
    "level": 6,
    "resolution": 610.8116874192093,
    "scale": 2308574.98883465
   },
   {
    "level": 7,
    "resolution": 305.40584370960335,
    "scale": 1154287.49441732
   },
   {
    "level": 8,
    "resolution": 152.7029218548022,
    "scale": 577143.747208662
   },
   {
    "level": 9,
    "resolution": 76.3514609274011,
    "scale": 288571.873604331
   },
   {
    "level": 10,
    "resolution": 38.17573046370042,
    "scale": 144285.936802165
   },
   {
    "level": 11,
    "resolution": 19.087865231850262,
    "scale": 72142.9684010827
   },
   {
    "level": 12,
    "resolution": 9.543932615925145,
    "scale": 36071.4842005414
   },
   {
    "level": 13,
    "resolution": 4.771966307962573,
    "scale": 18035.7421002707
   },
   {
    "level": 14,
    "resolution": 2.3859831539812832,
    "scale": 9017.87105013534
   },
   {
    "level": 15,
    "resolution": 1.1929915769906416,
    "scale": 4508.93552506767
   }
  ]
 },
 "initialExtent": {
  "xmin": -6848929.246194867,
  "ymin": -1281742.390408461,
  "xmax": 1.2386296047708055E7,
  "ymax": 5762694.13635151,
  "spatialReference": {
   "wkid": 54042,
   "latestWkid": 54042
  }
 },
 "fullExtent": {
  "xmin": -1.6395915966447607E7,
  "ymin": -9962331.463556819,
  "xmax": 1.6395915966447607E7,
  "ymax": 9962331.463556811,
  "spatialReference": {
   "wkid": 54042,
   "latestWkid": 54042
  }
 },
 "minScale": 1.47748799285417E8,
 "maxScale": 4508.93552506767,
 "units": "esriMeters",
 "supportedImageFormatTypes": "PNG32,PNG24,PNG,JPG,DIB,TIFF,EMF,PS,PDF,GIF,SVG,SVGZ,BMP",
 "documentInfo": {
  "Title": "",
  "Author": "",
  "Comments": "Webmap describing a potential future global food scenario",
  "Subject": "Webmap describing a potential future global food scenario",
  "Category": "",
  "AntialiasingMode": "None",
  "TextAntialiasingMode": "Force",
  "Keywords": "food"
 },
 "capabilities": "Map,Query,Data",
 "supportedQueryFormats": "JSON, AMF",
 "exportTilesAllowed": false,
 "maxRecordCount": 1000,
 "maxImageHeight": 4096,
 "maxImageWidth": 4096,
 "supportedExtensions": ""
}
