{
 "currentVersion": 10.22,
 "serviceDescription": "The biodiversity hotspots are regions known to hold especially high numbers of species found nowhere else, yet their remaining habitat combined covers a little more than two percent of Earth's land surface. According to the criteria developed by Myers et al. (2000), a hotspot must meet two thresholds in order to qualify: 1) it must have at least 1500 endemic, native vascular plant species, and 2) it must have already lost at least 70% of its primary, native vegetation.",
 "mapName": "Layers",
 "description": "",
 "copyrightText": "Conservation Synthesis, Center for Applied Biodiversity Science at Conservation International",
 "supportsDynamicLayers": false,
 "layers": [
  {
   "id": 0,
   "name": "Hotspots (2011)",
   "parentLayerId": -1,
   "defaultVisibility": true,
   "subLayerIds": null,
   "minScale": 0,
   "maxScale": 0
  }
 ],
 "tables": [],
 "spatialReference": {
  "wkid": 54042,
  "latestWkid": 54042
 },
 "singleFusedMapCache": true,
 "tileInfo": {
  "rows": 512,
  "cols": 512,
  "dpi": 96,
  "format": "PNG",
  "compressionQuality": 0,
  "origin": {
   "x": -1.803550816126541E7,
   "y": 2.505038728399674E7
  },
  "spatialReference": {
   "wkid": 54042,
   "latestWkid": 54042
  },
  "lods": [
   {
    "level": 0,
    "resolution": 39091.947994829236,
    "scale": 1.47748799285417E8
   },
   {
    "level": 1,
    "resolution": 19545.973997414672,
    "scale": 7.38743996427087E7
   },
   {
    "level": 2,
    "resolution": 9772.986998707349,
    "scale": 3.69371998213544E7
   },
   {
    "level": 3,
    "resolution": 4886.493499353674,
    "scale": 1.84685999106772E7
   },
   {
    "level": 4,
    "resolution": 2443.246749676835,
    "scale": 9234299.95533859
   },
   {
    "level": 5,
    "resolution": 1221.623374838416,
    "scale": 4617149.97766929
   },
   {
    "level": 6,
    "resolution": 610.8116874192093,
    "scale": 2308574.98883465
   },
   {
    "level": 7,
    "resolution": 305.40584370960335,
    "scale": 1154287.49441732
   },
   {
    "level": 8,
    "resolution": 152.7029218548022,
    "scale": 577143.747208662
   },
   {
    "level": 9,
    "resolution": 76.3514609274011,
    "scale": 288571.873604331
   },
   {
    "level": 10,
    "resolution": 38.17573046370042,
    "scale": 144285.936802165
   },
   {
    "level": 11,
    "resolution": 19.087865231850262,
    "scale": 72142.9684010827
   },
   {
    "level": 12,
    "resolution": 9.543932615925145,
    "scale": 36071.4842005414
   },
   {
    "level": 13,
    "resolution": 4.771966307962573,
    "scale": 18035.7421002707
   },
   {
    "level": 14,
    "resolution": 2.3859831539812832,
    "scale": 9017.87105013534
   },
   {
    "level": 15,
    "resolution": 1.1929915769906416,
    "scale": 4508.93552506767
   }
  ]
 },
 "initialExtent": {
  "xmin": -2.277074866649734E7,
  "ymin": -7176837.27034121,
  "xmax": 2.277074866649734E7,
  "ymax": 1.567659385318771E7,
  "spatialReference": {
   "wkid": 54042,
   "latestWkid": 54042
  }
 },
 "fullExtent": {
  "xmin": -1.63959159661137E7,
  "ymin": -7395516.476864388,
  "xmax": 1.6395915966384355E7,
  "ymax": 6309855.908137025,
  "spatialReference": {
   "wkid": 54042,
   "latestWkid": 54042
  }
 },
 "minScale": 1.47748799285417E8,
 "maxScale": 4508.93552506767,
 "units": "esriMeters",
 "supportedImageFormatTypes": "PNG32,PNG24,PNG,JPG,DIB,TIFF,EMF,PS,PDF,GIF,SVG,SVGZ,BMP",
 "documentInfo": {
  "Title": "Conservation International's Biodiversity Hotspots",
  "Author": "Esri Story Maps",
  "Comments": "The biodiversity hotspots are regions known to hold especially high numbers of species found nowhere else, yet their remaining habitat combined covers a little more than two percent of Earth's land surface. According to the criteria developed by Myers et al. (2000), a hotspot must meet two thresholds in order to qualify: 1) it must have at least 1500 endemic, native vascular plant species, and 2) it must have already lost at least 70% of its primary, native vegetation.",
  "Subject": "Location and extent of the 34 biodiversity hotspots as defined by Mitterneier et al. (2004)",
  "Category": "",
  "AntialiasingMode": "None",
  "TextAntialiasingMode": "Force",
  "Keywords": "Conservation International,biodiversity hotspots,hotspots"
 },
 "capabilities": "Map,Query,Data",
 "supportedQueryFormats": "JSON, AMF",
 "exportTilesAllowed": false,
 "maxRecordCount": 1000,
 "maxImageHeight": 4096,
 "maxImageWidth": 4096,
 "supportedExtensions": ""
}
