{
 "currentVersion": 10.22,
 "serviceDescription": "The Global Human Footprint Dataset of the Last of the Wild Project, Version 2, 2005 (LWP-2) is the Human Influence Index (HII) normalized by biome and realm. The HII is a global dataset of 1-kilometer grid cells, created from nine global data layers covering human population pressure (population density), human land use and infrastructure (built-up areas, nighttime lights, land use/land cover), and human access (coastlines, roads, railroads, navigable rivers). The dataset is produced by the Wildlife Conservation Society (WCS) and the Columbia University Center for International Earth Science Information Network (CIESIN) and is available in the Geographic Coordinate system.\n\nCredit: Wildlife Conservation Society - WCS, and Center for International Earth Science Information Network - CIESIN - Columbia University. 2005. Last of the Wild Project, Version 2, 2005 (LWP-2): Global Human Footprint Dataset (Geographic). Palisades, NY: NASA Socioeconomic Data and Applications Center (SEDAC). http://dx.doi.org/10.7927/H4M61H5F. Accessed 29/9/2014.",
 "mapName": "Layers",
 "description": "",
 "copyrightText": "WCS/CIESIN",
 "supportsDynamicLayers": false,
 "layers": [
  {
   "id": 0,
   "name": "Reds and purples = high degree of modification",
   "parentLayerId": -1,
   "defaultVisibility": true,
   "subLayerIds": null,
   "minScale": 0,
   "maxScale": 0
  }
 ],
 "tables": [],
 "spatialReference": {
  "wkid": 54042,
  "latestWkid": 54042
 },
 "singleFusedMapCache": true,
 "tileInfo": {
  "rows": 512,
  "cols": 512,
  "dpi": 96,
  "format": "PNG",
  "compressionQuality": 0,
  "origin": {
   "x": -1.803550816126541E7,
   "y": 2.505038728399674E7
  },
  "spatialReference": {
   "wkid": 54042,
   "latestWkid": 54042
  },
  "lods": [
   {
    "level": 0,
    "resolution": 39091.947994829236,
    "scale": 1.47748799285417E8
   },
   {
    "level": 1,
    "resolution": 19545.973997414672,
    "scale": 7.38743996427087E7
   },
   {
    "level": 2,
    "resolution": 9772.986998707349,
    "scale": 3.69371998213544E7
   },
   {
    "level": 3,
    "resolution": 4886.493499353674,
    "scale": 1.84685999106772E7
   },
   {
    "level": 4,
    "resolution": 2443.246749676835,
    "scale": 9234299.95533859
   },
   {
    "level": 5,
    "resolution": 1221.623374838416,
    "scale": 4617149.97766929
   },
   {
    "level": 6,
    "resolution": 610.8116874192093,
    "scale": 2308574.98883465
   },
   {
    "level": 7,
    "resolution": 305.40584370960335,
    "scale": 1154287.49441732
   },
   {
    "level": 8,
    "resolution": 152.7029218548022,
    "scale": 577143.747208662
   },
   {
    "level": 9,
    "resolution": 76.3514609274011,
    "scale": 288571.873604331
   },
   {
    "level": 10,
    "resolution": 38.17573046370042,
    "scale": 144285.936802165
   },
   {
    "level": 11,
    "resolution": 19.087865231850262,
    "scale": 72142.9684010827
   },
   {
    "level": 12,
    "resolution": 9.543932615925145,
    "scale": 36071.4842005414
   },
   {
    "level": 13,
    "resolution": 4.771966307962573,
    "scale": 18035.7421002707
   },
   {
    "level": 14,
    "resolution": 2.3859831539812832,
    "scale": 9017.87105013534
   },
   {
    "level": 15,
    "resolution": 1.1929915769906416,
    "scale": 4508.93552506767
   }
  ]
 },
 "initialExtent": {
  "xmin": -1.309262364633847E7,
  "ymin": -924221.9075418133,
  "xmax": 1.6611781094690803E7,
  "ymax": 1.4026830395555284E7,
  "spatialReference": {
   "wkid": 54042,
   "latestWkid": 54042
  }
 },
 "fullExtent": {
  "xmin": -1.6395915966272056E7,
  "ymin": -8179705.572880121,
  "xmax": 1.639590389260735E7,
  "ymax": 1.0013047908339225E7,
  "spatialReference": {
   "wkid": 54042,
   "latestWkid": 54042
  }
 },
 "minScale": 1.47748799285417E8,
 "maxScale": 4508.93552506767,
 "units": "esriMeters",
 "supportedImageFormatTypes": "PNG32,PNG24,PNG,JPG,DIB,TIFF,EMF,PS,PDF,GIF,SVG,SVGZ,BMP",
 "documentInfo": {
  "Title": "Global Human Footprint, v2 (1995\u200a\u2013\u200a2004)",
  "Author": "Esri Story Maps",
  "Comments": "The Global Human Footprint Dataset of the Last of the Wild Project, Version 2, 2005 (LWP-2) is the Human Influence Index (HII) normalized by biome and realm. The HII is a global dataset of 1-kilometer grid cells, created from nine global data layers covering human population pressure (population density), human land use and infrastructure (built-up areas, nighttime lights, land use/land cover), and human access (coastlines, roads, railroads, navigable rivers). The dataset is produced by the Wildlife Conservation Society (WCS) and the Columbia University Center for International Earth Science Information Network (CIESIN) and is available in the Geographic Coordinate system.\n\nCredit: Wildlife Conservation Society - WCS, and Center for International Earth Science Information Network - CIESIN - Columbia University. 2005. Last of the Wild Project, Version 2, 2005 (LWP-2): Global Human Footprint Dataset (Geographic). Palisades, NY: NASA Socioeconomic Data and Applications Center (SEDAC). http://dx.doi.org/10.7927/H4M61H5F. Accessed 29/9/2014.",
  "Subject": "Global Human Footprint Dataset calculated for the years 1995-2004",
  "Category": "",
  "AntialiasingMode": "None",
  "TextAntialiasingMode": "Force",
  "Keywords": "human footprint,wcs"
 },
 "capabilities": "Map,Query,Data",
 "supportedQueryFormats": "JSON, AMF",
 "exportTilesAllowed": false,
 "maxRecordCount": 1000,
 "maxImageHeight": 4096,
 "maxImageWidth": 4096,
 "supportedExtensions": ""
}
