{
 "currentVersion": 10.22,
 "serviceDescription": "Protected Planet is the most up to date and complete source of information on protected areas, updated monthly with submissions from governments, non-governmental organizations, landowners and communities. It is managed by the United Nations Environment World Conservation Monitoring Centre (UNEP-WCMC) with support from IUCN and its World Commission on Protected Areas (WCPA).\n\nIt is a publicly available online platform where users can discover terrestrial and marine protected areas, access related statistics and download data from the World Database on Protected Areas (WDPA).\n\nProtected Planet enables a spectrum of users to use existing protected area data for information-based decision making, policy development, and business and conservation planning. Businesses in a range of sectors including mining, oil and gas, and finance can use WDPA data to identify biodiversity risks and opportunities of a given project. Conservation planners can use the information to predict the outcomes of various proposals and focus on initiatives and areas that are most likely to result in positive impacts. The US Agency for International Development (USAID) uses the Millennium Challenge Corporation's (MCC) annual policy performance scorecards to inform decisions on allocations on funds; MCC uses the WDPA in its indicator to measure the effectiveness of policies related to Natural Resource Protection.",
 "mapName": "Layers",
 "description": "",
 "copyrightText": "UNEP-WCMC (2014)",
 "supportsDynamicLayers": false,
 "layers": [
  {
   "id": 0,
   "name": "Marine areas",
   "parentLayerId": -1,
   "defaultVisibility": true,
   "subLayerIds": null,
   "minScale": 0,
   "maxScale": 0
  },
  {
   "id": 1,
   "name": "Terrestrial areas",
   "parentLayerId": -1,
   "defaultVisibility": true,
   "subLayerIds": null,
   "minScale": 0,
   "maxScale": 0
  }
 ],
 "tables": [],
 "spatialReference": {
  "wkid": 102100,
  "latestWkid": 3857
 },
 "singleFusedMapCache": true,
 "tileInfo": {
  "rows": 256,
  "cols": 256,
  "dpi": 96,
  "format": "PNG32",
  "compressionQuality": 0,
  "origin": {
   "x": -2.0037508342787E7,
   "y": 2.0037508342787E7
  },
  "spatialReference": {
   "wkid": 102100,
   "latestWkid": 3857
  },
  "lods": [
   {
    "level": 0,
    "resolution": 156543.03392800014,
    "scale": 5.91657527591555E8
   },
   {
    "level": 1,
    "resolution": 78271.51696399994,
    "scale": 2.95828763795777E8
   },
   {
    "level": 2,
    "resolution": 39135.75848200009,
    "scale": 1.47914381897889E8
   },
   {
    "level": 3,
    "resolution": 19567.87924099992,
    "scale": 7.3957190948944E7
   },
   {
    "level": 4,
    "resolution": 9783.93962049996,
    "scale": 3.6978595474472E7
   },
   {
    "level": 5,
    "resolution": 4891.96981024998,
    "scale": 1.8489297737236E7
   },
   {
    "level": 6,
    "resolution": 2445.98490512499,
    "scale": 9244648.868618
   },
   {
    "level": 7,
    "resolution": 1222.992452562495,
    "scale": 4622324.434309
   },
   {
    "level": 8,
    "resolution": 611.4962262813797,
    "scale": 2311162.217155
   },
   {
    "level": 9,
    "resolution": 305.74811314055756,
    "scale": 1155581.108577
   },
   {
    "level": 10,
    "resolution": 152.87405657041106,
    "scale": 577790.554289
   },
   {
    "level": 11,
    "resolution": 76.43702828507324,
    "scale": 288895.277144
   },
   {
    "level": 12,
    "resolution": 38.21851414253662,
    "scale": 144447.638572
   },
   {
    "level": 13,
    "resolution": 19.10925707126831,
    "scale": 72223.819286
   },
   {
    "level": 14,
    "resolution": 9.554628535634155,
    "scale": 36111.909643
   },
   {
    "level": 15,
    "resolution": 4.77731426794937,
    "scale": 18055.954822
   },
   {
    "level": 16,
    "resolution": 2.388657133974685,
    "scale": 9027.977411
   },
   {
    "level": 17,
    "resolution": 1.1943285668550503,
    "scale": 4513.988705
   },
   {
    "level": 18,
    "resolution": 0.5971642835598172,
    "scale": 2256.994353
   },
   {
    "level": 19,
    "resolution": 0.29858214164761665,
    "scale": 1128.497176
   }
  ]
 },
 "initialExtent": {
  "xmin": -1.21461855570149E7,
  "ymin": 1606311.4044649955,
  "xmax": 1.2146185375124699E7,
  "ymax": 1.0502805336886415E7,
  "spatialReference": {
   "cs": "pcs",
   "wkid": 102100
  }
 },
 "fullExtent": {
  "xmin": -2.0037507067161843E7,
  "ymin": -1.2557861795886798E7,
  "xmax": 2.0037507067161843E7,
  "ymax": 1.8634259320828073E7,
  "spatialReference": {
   "cs": "pcs",
   "wkid": 102100
  }
 },
 "minScale": 2.95828763795777E8,
 "maxScale": 144447.638572,
 "units": "esriMeters",
 "supportedImageFormatTypes": "PNG32,PNG24,PNG,JPG,DIB,TIFF,EMF,PS,PDF,GIF,SVG,SVGZ,BMP",
 "documentInfo": {
  "Title": "Protected areas of the world (2014)",
  "Author": "Esri Story Maps",
  "Comments": "Protected Planet is the most up to date and complete source of information on protected areas, updated monthly with submissions from governments, non-governmental organizations, landowners and communities. It is managed by the United Nations Environment World Conservation Monitoring Centre (UNEP-WCMC) with support from IUCN and its World Commission on Protected Areas (WCPA).\n\nIt is a publicly available online platform where users can discover terrestrial and marine protected areas, access related statistics and download data from the World Database on Protected Areas (WDPA).\n\nProtected Planet enables a spectrum of users to use existing protected area data for information-based decision making, policy development, and business and conservation planning. Businesses in a range of sectors including mining, oil and gas, and finance can use WDPA data to identify biodiversity risks and opportunities of a given project. Conservation planners can use the information to predict the outcomes of various proposals and focus on initiatives and areas that are most likely to result in positive impacts. The US Agency for International Development (USAID) uses the Millennium Challenge Corporation's (MCC) annual policy performance scorecards to inform decisions on allocations on funds; MCC uses the WDPA in its indicator to measure the effectiveness of policies related to Natural Resource Protection.",
  "Subject": "Protected Planet is the most up to date and complete source of information on protected areas.",
  "Category": "",
  "AntialiasingMode": "Best",
  "TextAntialiasingMode": "Force",
  "Keywords": "WDPA,protected areas,WCMC,conservation,anthropocene,protected planet"
 },
 "capabilities": "Map,Query,Data",
 "supportedQueryFormats": "JSON, AMF",
 "exportTilesAllowed": false,
 "maxRecordCount": 1000,
 "maxImageHeight": 4096,
 "maxImageWidth": 4096,
 "supportedExtensions": ""
}
