{
 "currentVersion": 10.22,
 "serviceDescription": "From http://www.cdc.gov/obesity/defining.html\n\nOverweight and obesity are both labels for ranges of weight that are greater than what is generally considered healthy for a given height. The terms also identify ranges of weight that have been shown to increase the likelihood of certain diseases and other health problems.\n\nDefinitions for Adults\n\nFor adults, overweight and obesity ranges are determined by using weight and height to calculate a number called the \"body mass index\" (BMI). BMI is used because, for most people, it correlates with their amount of body fat.\n\nAn adult who has a BMI between 25 and 29.9 is considered overweight.\n\nAn adult who has a BMI of 30 or higher is considered obese.\n\nSee the table at this link for an example: http://www.cdc.gov/obesity/defining.html\n\nIt is important to remember that although BMI correlates with the amount of body fat, BMI does not directly measure body fat. As a result, some people, such as athletes, may have a BMI that identifies them as overweight even though they do not have excess body fat. For more information about BMI, visit Body Mass Index.\n\nOther methods of estimating body fat and body fat distribution include measurements of skinfold thickness and waist circumference, calculation of waist-to-hip circumference ratios, and techniques such as ultrasound, computed tomography, and magnetic resonance imaging (MRI).",
 "mapName": "Layers",
 "description": "This thematic map presents the adult obesity rate in the United States in 2007. \n\nFrom http://www.cdc.gov/obesity/defining.html\n\nOverweight and obesity are both labels for ranges of weight that are greater than what is generally considered healthy for a given height. The terms also identify ranges of weight that have been shown to increase the likelihood of certain diseases and other health problems.\n\nDefinitions for Adults\n\nFor adults, overweight and obesity ranges are determined by using weight and height to calculate a number called the \"body mass index\" (BMI). BMI is used because, for most people, it correlates with their amount of body fat.\n\nAn adult who has a BMI between 25 and 29.9 is considered overweight.\n\nAn adult who has a BMI of 30 or higher is considered obese.\n\nSee the table at this link for an example: http://www.cdc.gov/obesity/defining.html\n\nIt is important to remember that although BMI correlates with the amount of body fat, BMI does not directly measure body fat. As a result, some people, such as athletes, may have a BMI that identifies them as overweight even though they do not have excess body fat. For more information about BMI, visit Body Mass Index.\n\nOther methods of estimating body fat and body fat distribution include measurements of skinfold thickness and waist circumference, calculation of waist-to-hip circumference ratios, and techniques such as ultrasound, computed tomography, and magnetic resonance imaging (MRI).\n\nThe geography depicts states at greater than 25m scale and counties at all other scales. The map has been designed to be displayed with semi-transparency of about 50% for overlay on other base maps, which is reflected in the legend for the map. ",
 "copyrightText": "Copyright:© 2010 ESRI",
 "supportsDynamicLayers": false,
 "layers": [
  {
   "id": 0,
   "name": "State boundary",
   "parentLayerId": -1,
   "defaultVisibility": true,
   "subLayerIds": null,
   "minScale": 147914383,
   "maxScale": 1155580
  },
  {
   "id": 1,
   "name": "% Obese Adults",
   "parentLayerId": -1,
   "defaultVisibility": true,
   "subLayerIds": null,
   "minScale": 147914383,
   "maxScale": 1155580
  },
  {
   "id": 2,
   "name": "United States border",
   "parentLayerId": -1,
   "defaultVisibility": true,
   "subLayerIds": null,
   "minScale": 147914383,
   "maxScale": 1155580
  }
 ],
 "tables": [],
 "spatialReference": {
  "wkid": 102100,
  "latestWkid": 3857
 },
 "singleFusedMapCache": true,
 "tileInfo": {
  "rows": 256,
  "cols": 256,
  "dpi": 96,
  "format": "PNG",
  "compressionQuality": 0,
  "origin": {
   "x": -2.0037508342787E7,
   "y": 2.0037508342787E7
  },
  "spatialReference": {
   "wkid": 102100,
   "latestWkid": 3857
  },
  "lods": [
   {
    "level": 0,
    "resolution": 156543.033928,
    "scale": 5.91657527591555E8
   },
   {
    "level": 1,
    "resolution": 78271.5169639999,
    "scale": 2.95828763795777E8
   },
   {
    "level": 2,
    "resolution": 39135.7584820001,
    "scale": 1.47914381897889E8
   },
   {
    "level": 3,
    "resolution": 19567.8792409999,
    "scale": 7.3957190948944E7
   },
   {
    "level": 4,
    "resolution": 9783.93962049996,
    "scale": 3.6978595474472E7
   },
   {
    "level": 5,
    "resolution": 4891.96981024998,
    "scale": 1.8489297737236E7
   },
   {
    "level": 6,
    "resolution": 2445.98490512499,
    "scale": 9244648.868618
   },
   {
    "level": 7,
    "resolution": 1222.99245256249,
    "scale": 4622324.434309
   },
   {
    "level": 8,
    "resolution": 611.49622628138,
    "scale": 2311162.217155
   },
   {
    "level": 9,
    "resolution": 305.748113140558,
    "scale": 1155581.108577
   },
   {
    "level": 10,
    "resolution": 152.874056570411,
    "scale": 577790.554289
   },
   {
    "level": 11,
    "resolution": 76.4370282850732,
    "scale": 288895.277144
   },
   {
    "level": 12,
    "resolution": 38.2185141425366,
    "scale": 144447.638572
   },
   {
    "level": 13,
    "resolution": 19.1092570712683,
    "scale": 72223.819286
   },
   {
    "level": 14,
    "resolution": 9.55462853563415,
    "scale": 36111.909643
   },
   {
    "level": 15,
    "resolution": 4.77731426794937,
    "scale": 18055.954822
   },
   {
    "level": 16,
    "resolution": 2.38865713397468,
    "scale": 9027.977411
   },
   {
    "level": 17,
    "resolution": 1.19432856685505,
    "scale": 4513.988705
   },
   {
    "level": 18,
    "resolution": 0.597164283559817,
    "scale": 2256.994353
   },
   {
    "level": 19,
    "resolution": 0.298582141647617,
    "scale": 1128.497176
   }
  ]
 },
 "initialExtent": {
  "xmin": -1.885333517810638E7,
  "ymin": 5094321.571834523,
  "xmax": -1555329.9290624484,
  "ymax": 9829748.348156504,
  "spatialReference": {
   "cs": "pcs",
   "wkid": 102100
  }
 },
 "fullExtent": {
  "xmin": -2.0037507067161843E7,
  "ymin": 557305.2572745753,
  "xmax": -6679169.447596415,
  "ymax": 1.175318461533845E7,
  "spatialReference": {
   "cs": "pcs",
   "wkid": 102100
  }
 },
 "minScale": 2.95828763795777E8,
 "maxScale": 577790.554289,
 "units": "esriMeters",
 "supportedImageFormatTypes": "PNG32,PNG24,PNG,JPG,DIB,TIFF,EMF,PS,PDF,GIF,SVG,SVGZ,BMP",
 "documentInfo": {
  "Title": "USA Adult Obesity Rates",
  "Author": "Esri",
  "Comments": "From http://www.cdc.gov/obesity/defining.html\n\nOverweight and obesity are both labels for ranges of weight that are greater than what is generally considered healthy for a given height. The terms also identify ranges of weight that have been shown to increase the likelihood of certain diseases and other health problems.\n\nDefinitions for Adults\n\nFor adults, overweight and obesity ranges are determined by using weight and height to calculate a number called the \"body mass index\" (BMI). BMI is used because, for most people, it correlates with their amount of body fat.\n\nAn adult who has a BMI between 25 and 29.9 is considered overweight.\n\nAn adult who has a BMI of 30 or higher is considered obese.\n\nSee the table at this link for an example: http://www.cdc.gov/obesity/defining.html\n\nIt is important to remember that although BMI correlates with the amount of body fat, BMI does not directly measure body fat. As a result, some people, such as athletes, may have a BMI that identifies them as overweight even though they do not have excess body fat. For more information about BMI, visit Body Mass Index.\n\nOther methods of estimating body fat and body fat distribution include measurements of skinfold thickness and waist circumference, calculation of waist-to-hip circumference ratios, and techniques such as ultrasound, computed tomography, and magnetic resonance imaging (MRI).",
  "Subject": "obesity, food deserts",
  "Category": "",
  "AntialiasingMode": "Best",
  "TextAntialiasingMode": "Force",
  "Keywords": "United States,2007,obesity,CDC"
 },
 "capabilities": "Map,Query,Data",
 "supportedQueryFormats": "JSON, AMF",
 "exportTilesAllowed": false,
 "maxRecordCount": 1000,
 "maxImageHeight": 4096,
 "maxImageWidth": 4096,
 "supportedExtensions": ""
}
