{
 "currentVersion": 10.22,
 "serviceDescription": "This is a collection of georefereneced overview maps of wartime Japanese Internment / Relocation Centers. \n\nThe maps were published in the report \"Confinement and Ethnicity: An Overview of World War II Japanese American Relocation Sites\" by the National Park Service and downloaded from the publication's webpage: \n\nhttps://www.nps.gov/parkhistory/online_books/anthropology74/index.htm \n\nAuthors of the report: J. Burton, M. Farrell, F. Lord, and R. Lord",
 "mapName": "Layers",
 "description": "",
 "copyrightText": "NPS, Burton, et. al.",
 "supportsDynamicLayers": true,
 "layers": [
  {
   "id": 0,
   "name": "Gila River schematic.jpg",
   "parentLayerId": -1,
   "defaultVisibility": true,
   "subLayerIds": null,
   "minScale": 0,
   "maxScale": 0
  },
  {
   "id": 1,
   "name": "Granada schematic.jpg",
   "parentLayerId": -1,
   "defaultVisibility": true,
   "subLayerIds": null,
   "minScale": 0,
   "maxScale": 0
  },
  {
   "id": 2,
   "name": "Heart Mountain schematic.jpg",
   "parentLayerId": -1,
   "defaultVisibility": true,
   "subLayerIds": null,
   "minScale": 0,
   "maxScale": 0
  },
  {
   "id": 3,
   "name": "Jerome schematic.jpg",
   "parentLayerId": -1,
   "defaultVisibility": true,
   "subLayerIds": null,
   "minScale": 0,
   "maxScale": 0
  },
  {
   "id": 4,
   "name": "Manzanar schematic.jpg",
   "parentLayerId": -1,
   "defaultVisibility": true,
   "subLayerIds": null,
   "minScale": 0,
   "maxScale": 0
  },
  {
   "id": 5,
   "name": "Minidoka schematic.jpg",
   "parentLayerId": -1,
   "defaultVisibility": true,
   "subLayerIds": null,
   "minScale": 0,
   "maxScale": 0
  },
  {
   "id": 6,
   "name": "Poston schematic.jpg",
   "parentLayerId": -1,
   "defaultVisibility": true,
   "subLayerIds": null,
   "minScale": 0,
   "maxScale": 0
  },
  {
   "id": 7,
   "name": "Rohwer schematic.jpg",
   "parentLayerId": -1,
   "defaultVisibility": true,
   "subLayerIds": null,
   "minScale": 0,
   "maxScale": 0
  },
  {
   "id": 8,
   "name": "Topaz schematic.jpg",
   "parentLayerId": -1,
   "defaultVisibility": true,
   "subLayerIds": null,
   "minScale": 0,
   "maxScale": 0
  },
  {
   "id": 9,
   "name": "Tule Lake schematic.jpg",
   "parentLayerId": -1,
   "defaultVisibility": true,
   "subLayerIds": null,
   "minScale": 0,
   "maxScale": 0
  }
 ],
 "tables": [],
 "spatialReference": {
  "wkid": 102100,
  "latestWkid": 3857
 },
 "singleFusedMapCache": true,
 "tileInfo": {
  "rows": 256,
  "cols": 256,
  "dpi": 96,
  "format": "PNG32",
  "compressionQuality": 0,
  "origin": {
   "x": -2.0037508342787E7,
   "y": 2.0037508342787E7
  },
  "spatialReference": {
   "wkid": 102100,
   "latestWkid": 3857
  },
  "lods": [
   {
    "level": 0,
    "resolution": 19567.87924099992,
    "scale": 7.3957190948944E7
   },
   {
    "level": 1,
    "resolution": 9783.93962049996,
    "scale": 3.6978595474472E7
   },
   {
    "level": 2,
    "resolution": 4891.96981024998,
    "scale": 1.8489297737236E7
   },
   {
    "level": 3,
    "resolution": 2445.98490512499,
    "scale": 9244648.868618
   },
   {
    "level": 4,
    "resolution": 1222.992452562495,
    "scale": 4622324.434309
   },
   {
    "level": 5,
    "resolution": 611.4962262813797,
    "scale": 2311162.217155
   },
   {
    "level": 6,
    "resolution": 305.74811314055756,
    "scale": 1155581.108577
   },
   {
    "level": 7,
    "resolution": 152.87405657041106,
    "scale": 577790.554289
   },
   {
    "level": 8,
    "resolution": 76.43702828507324,
    "scale": 288895.277144
   },
   {
    "level": 9,
    "resolution": 38.21851414253662,
    "scale": 144447.638572
   },
   {
    "level": 10,
    "resolution": 19.10925707126831,
    "scale": 72223.819286
   },
   {
    "level": 11,
    "resolution": 9.554628535634155,
    "scale": 36111.909643
   },
   {
    "level": 12,
    "resolution": 4.77731426794937,
    "scale": 18055.954822
   },
   {
    "level": 13,
    "resolution": 2.388657133974685,
    "scale": 9027.977411
   },
   {
    "level": 14,
    "resolution": 1.1943285668550503,
    "scale": 4513.988705
   },
   {
    "level": 15,
    "resolution": 0.5971642835598172,
    "scale": 2256.994353
   },
   {
    "level": 16,
    "resolution": 0.29858214164761665,
    "scale": 1128.497176
   }
  ]
 },
 "initialExtent": {
  "xmin": -1.0186629911787473E7,
  "ymin": 3950189.348440591,
  "xmax": -1.0171640050823495E7,
  "ymax": 3958893.138677738,
  "spatialReference": {
   "cs": "pcs",
   "wkid": 102100
  }
 },
 "fullExtent": {
  "xmin": -1.3523704832803242E7,
  "ymin": 3894806.0689966823,
  "xmax": -1.0157077742312303E7,
  "ymax": 5577613.154964756,
  "spatialReference": {
   "cs": "pcs",
   "wkid": 102100
  }
 },
 "minScale": 7.3957190948944E7,
 "maxScale": 1128.497176,
 "units": "esriMeters",
 "supportedImageFormatTypes": "PNG32,PNG24,PNG,JPG,DIB,TIFF,EMF,PS,PDF,GIF,SVG,SVGZ,BMP",
 "documentInfo": {
  "Title": "Japanese relocation center maps (NPS)",
  "Author": "Esri Story Maps",
  "Comments": "This is a collection of georefereneced overview maps of wartime Japanese Internment / Relocation Centers. \n\nThe maps were published in the report \"Confinement and Ethnicity: An Overview of World War II Japanese American Relocation Sites\" by the National Park Service and downloaded from the publication's webpage: \n\nhttps://www.nps.gov/parkhistory/online_books/anthropology74/index.htm \n\nAuthors of the report: J. Burton, M. Farrell, F. Lord, and R. Lord",
  "Subject": "A collection of maps of Japanese internment camps or Relocation Centers.",
  "Category": "",
  "AntialiasingMode": "Best",
  "TextAntialiasingMode": "Force",
  "Keywords": "Japanese internment,WWII,NPS"
 },
 "capabilities": "Data,Map",
 "supportedQueryFormats": "JSON, AMF",
 "exportTilesAllowed": false,
 "maxRecordCount": 1000,
 "maxImageHeight": 4096,
 "maxImageWidth": 4096,
 "supportedExtensions": ""
}
