{
 "currentVersion": 10.22,
 "serviceDescription": "",
 "name": "Japanese_internment/Topaz_schematic",
 "description": "Japanese_internment/Topaz_schematic",
 "extent": {
  "xmin": -1.2559920110507427E7,
  "ymin": 4769470.783110457,
  "xmax": -1.2542799700765403E7,
  "ymax": 4791637.521313129,
  "spatialReference": {
   "wkid": 102100,
   "latestWkid": 3857
  }
 },
 "initialExtent": {
  "xmin": -1.2559920110507427E7,
  "ymin": 4769470.783110457,
  "xmax": -1.2542799700765403E7,
  "ymax": 4791637.521313129,
  "spatialReference": {
   "wkid": 102100,
   "latestWkid": 3857
  }
 },
 "fullExtent": {
  "xmin": -1.2559920110507427E7,
  "ymin": 4769470.783110457,
  "xmax": -1.2542799700765403E7,
  "ymax": 4791637.521313129,
  "spatialReference": {
   "wkid": 102100,
   "latestWkid": 3857
  }
 },
 "pixelSizeX": 17.069202135616944,
 "pixelSizeY": 17.06446358943222,
 "bandCount": 3,
 "pixelType": "U8",
 "minPixelSize": 0,
 "maxPixelSize": 0,
 "copyrightText": "",
 "serviceDataType": "esriImageServiceDataTypeRGB",
 "minValues": [
  0,
  0,
  0
 ],
 "maxValues": [
  255,
  255,
  255
 ],
 "meanValues": [
  244.86185832911,
  244.86185832911,
  244.86185832911
 ],
 "stdvValues": [
  43.483309707879,
  43.483309707879,
  43.483309707879
 ],
 "objectIdField": "",
 "fields": [],
 "capabilities": "Image,Metadata,Mensuration",
 "defaultMosaicMethod": "Center",
 "allowedMosaicMethods": "",
 "sortField": "",
 "sortValue": null,
 "mosaicOperator": "First",
 "defaultCompressionQuality": 75,
 "defaultResamplingMethod": "Nearest",
 "maxImageHeight": 4100,
 "maxImageWidth": 15000,
 "allowRasterFunction": true,
 "rasterFunctionInfos": [
  {
   "name": "Original",
   "description": "A raster function template.",
   "help": ""
  },
  {
   "name": "Stretched remap black",
   "description": "A raster function template.",
   "help": ""
  },
  {
   "name": "Stretched remap white",
   "description": "A raster function template.",
   "help": ""
  }
 ],
 "rasterTypeInfos": [
  {
   "name": "Raster Dataset",
   "description": "Supports all ArcGIS Raster Datasets",
   "help": ""
  }
 ],
 "mensurationCapabilities": "Basic",
 "hasHistograms": true,
 "hasColormap": false,
 "hasRasterAttributeTable": false,
 "minScale": 0,
 "maxScale": 0,
 "exportTilesAllowed": false,
 "supportsStatistics": false,
 "supportsAdvancedQueries": false,
 "editFieldsInfo": null,
 "ownershipBasedAccessControlForRasters": null,
 "allowComputeTiePoints": false,
 "useStandardizedQueries": true,
 "spatialReference": {
  "wkid": 102100,
  "latestWkid": 3857
 }
}
