{
 "currentVersion": 10.22,
 "serviceDescription": "These color maps of Jupiter were constructed from images taken by the narrow-angle camera onboard NASA's Cassini spacecraft on Dec. 11 and 12, 2000, as the spacecraft neared Jupiter during its flyby of the giant planet. Cassini was on its way to Saturn. They are the most detailed global color maps of Jupiter ever produced. The smallest visible features are about 120 kilometers (75 miles) across.\n\nThe maps are composed of 36 images: a pair of images covering Jupiter's northern and southern hemispheres was acquired in two colors every hour for nine hours as Jupiter rotated beneath the spacecraft. Although the raw images are in just two colors, 750 nanometers (near-infrared) and 451 nanometers (blue), the map's colors are close to those the human eye would see when gazing at Jupiter.\n\nThe maps show a variety of colorful cloud features, including parallel reddish-brown and white bands, the Great Red Spot, multi-lobed chaotic regions, white ovals and many small vortices. Many clouds appear in streaks and waves due to continual stretching and folding by Jupiter's winds and turbulence. The bluish-gray features along the north edge of the central bright band are equatorial \"hot spots,\" meteorological systems such as the one entered by NASA's Galileo probe. Small bright spots within the orange band north of the equator are lightning-bearing thunderstorms. The polar regions are less clearly visible because Cassini viewed them at an angle and through thicker atmospheric haze (such as the whitish material in the south polar map -- see PIA07784.\n\nPixels in the rectangular map cover equal increments of planetocentric latitude (which is measured relative to the center of the planet) and longitude, and extend to 180 degrees of latitude and 360 degrees of longitude.\n\nThe image has been projected in ArcMap onto the GCS_Jupiter_2000 coordinate system (WKID: 104908)\n\nThe Cassini-Huygens mission is a cooperative project of NASA, the European Space Agency and the Italian Space Agency. The Jet Propulsion Laboratory, a division of the California Institute of Technology in Pasadena, manages the mission for NASA's Science Mission Directorate, Washington, D.C. The Cassini orbiter and its two onboard cameras were designed, developed and assembled at JPL. The imaging operations center is based at the Space Science Institute in Boulder, Colo.\n\nFor more information about the Cassini-Huygens mission visit http://saturn.jpl.nasa.gov/home/index.cfm. The Cassini imaging team homepage is at http://ciclops.org.\n\n\n\nhttp://photojournal.jpl.nasa.gov/catalog/PIA07782",
 "mapName": "Layers",
 "description": "",
 "copyrightText": "NASA/JPL/Space Science Institute",
 "supportsDynamicLayers": false,
 "layers": [
  {
   "id": 0,
   "name": "Jupiter_PIA07782",
   "parentLayerId": -1,
   "defaultVisibility": true,
   "subLayerIds": null,
   "minScale": 0,
   "maxScale": 0
  }
 ],
 "tables": [],
 "spatialReference": {
  "wkid": 104908,
  "latestWkid": 104908
 },
 "singleFusedMapCache": true,
 "tileInfo": {
  "rows": 256,
  "cols": 256,
  "dpi": 96,
  "format": "Mixed",
  "compressionQuality": 75,
  "origin": {
   "x": -400,
   "y": 399.9999999999998
  },
  "spatialReference": {
   "wkid": 104908,
   "latestWkid": 104908
  },
  "lods": [
   {
    "level": 0,
    "resolution": 0.34502184584539064,
    "scale": 145000000
   },
   {
    "level": 1,
    "resolution": 0.24984340561217944,
    "scale": 105000000
   },
   {
    "level": 2,
    "resolution": 0.1546649653789682,
    "scale": 65000000
   },
   {
    "level": 3,
    "resolution": 0.05948652514575701,
    "scale": 25000000
   }
  ]
 },
 "initialExtent": {
  "xmin": -106.81656166024362,
  "ymin": -34.82570064336643,
  "xmax": 45.58060454036939,
  "ymax": 31.870056850897218,
  "spatialReference": {
   "cs": "gcs",
   "wkid": 104908
  }
 },
 "fullExtent": {
  "xmin": -179.83123813925297,
  "ymin": -89.90987866620881,
  "xmax": 180.15789332501137,
  "ymax": 90.13467167179176,
  "spatialReference": {
   "cs": "gcs",
   "wkid": 104908
  }
 },
 "minScale": 145000000,
 "maxScale": 25000000,
 "units": "esriDecimalDegrees",
 "supportedImageFormatTypes": "PNG32,PNG24,PNG,JPG,DIB,TIFF,EMF,PS,PDF,GIF,SVG,SVGZ,BMP",
 "documentInfo": {
  "Title": "Cassini's Best Map of Jupiter",
  "Author": "Esri Story Maps",
  "Comments": "These color maps of Jupiter were constructed from images taken by the narrow-angle camera onboard NASA's Cassini spacecraft on Dec. 11 and 12, 2000, as the spacecraft neared Jupiter during its flyby of the giant planet. Cassini was on its way to Saturn. They are the most detailed global color maps of Jupiter ever produced. The smallest visible features are about 120 kilometers (75 miles) across.\n\nThe maps are composed of 36 images: a pair of images covering Jupiter's northern and southern hemispheres was acquired in two colors every hour for nine hours as Jupiter rotated beneath the spacecraft. Although the raw images are in just two colors, 750 nanometers (near-infrared) and 451 nanometers (blue), the map's colors are close to those the human eye would see when gazing at Jupiter.\n\nThe maps show a variety of colorful cloud features, including parallel reddish-brown and white bands, the Great Red Spot, multi-lobed chaotic regions, white ovals and many small vortices. Many clouds appear in streaks and waves due to continual stretching and folding by Jupiter's winds and turbulence. The bluish-gray features along the north edge of the central bright band are equatorial \"hot spots,\" meteorological systems such as the one entered by NASA's Galileo probe. Small bright spots within the orange band north of the equator are lightning-bearing thunderstorms. The polar regions are less clearly visible because Cassini viewed them at an angle and through thicker atmospheric haze (such as the whitish material in the south polar map -- see PIA07784.\n\nPixels in the rectangular map cover equal increments of planetocentric latitude (which is measured relative to the center of the planet) and longitude, and extend to 180 degrees of latitude and 360 degrees of longitude.\n\nThe image has been projected in ArcMap onto the GCS_Jupiter_2000 coordinate system (WKID: 104908)\n\nThe Cassini-Huygens mission is a cooperative project of NASA, the European Space Agency and the Italian Space Agency. The Jet Propulsion Laboratory, a division of the California Institute of Technology in Pasadena, manages the mission for NASA's Science Mission Directorate, Washington, D.C. The Cassini orbiter and its two onboard cameras were designed, developed and assembled at JPL. The imaging operations center is based at the Space Science Institute in Boulder, Colo.\n\nFor more information about the Cassini-Huygens mission visit http://saturn.jpl.nasa.gov/home/index.cfm. The Cassini imaging team homepage is at http://ciclops.org.\n\n\n\nhttp://photojournal.jpl.nasa.gov/catalog/PIA07782",
  "Subject": "This map is part of a group release of cylindrical and polar stereographic projections of Jupiter. For the other maps see PIA07783 and PIA07784. ",
  "Category": "",
  "AntialiasingMode": "Best",
  "TextAntialiasingMode": "Force",
  "Keywords": "Jupiter,solar system,space,planet"
 },
 "capabilities": "Map,Query,Data",
 "supportedQueryFormats": "JSON, AMF",
 "exportTilesAllowed": false,
 "maxRecordCount": 1000,
 "maxImageHeight": 4096,
 "maxImageWidth": 4096,
 "supportedExtensions": ""
}
