{
 "currentVersion": 10.22,
 "serviceDescription": "Dark Gray Canvas Basemap; World Small Scale coverage. Combined file (Base and Reference layers).",
 "mapName": "Dark Gray Canvas Small Scale Template",
 "description": "",
 "copyrightText": "",
 "supportsDynamicLayers": false,
 "layers": [
  {
   "id": 0,
   "name": "BASE",
   "parentLayerId": -1,
   "defaultVisibility": true,
   "subLayerIds": [
    1,
    5,
    9,
    14,
    23,
    32
   ],
   "minScale": 0,
   "maxScale": 0
  },
  {
   "id": 1,
   "name": "DGC_Base_592m",
   "parentLayerId": 0,
   "defaultVisibility": true,
   "subLayerIds": [
    2,
    3,
    4
   ],
   "minScale": 0,
   "maxScale": 400000001
  },
  {
   "id": 2,
   "name": "Waterbody_592M",
   "parentLayerId": 1,
   "defaultVisibility": true,
   "subLayerIds": null,
   "minScale": 0,
   "maxScale": 0
  },
  {
   "id": 3,
   "name": "Land_18M",
   "parentLayerId": 1,
   "defaultVisibility": true,
   "subLayerIds": null,
   "minScale": 0,
   "maxScale": 0
  },
  {
   "id": 4,
   "name": "WORLD_OpenWater",
   "parentLayerId": 1,
   "defaultVisibility": true,
   "subLayerIds": null,
   "minScale": 0,
   "maxScale": 0
  },
  {
   "id": 5,
   "name": "DGC_Base_295m",
   "parentLayerId": 0,
   "defaultVisibility": true,
   "subLayerIds": [
    6,
    7,
    8
   ],
   "minScale": 400000000,
   "maxScale": 225000001
  },
  {
   "id": 6,
   "name": "Waterbody_295M",
   "parentLayerId": 5,
   "defaultVisibility": true,
   "subLayerIds": null,
   "minScale": 0,
   "maxScale": 0
  },
  {
   "id": 7,
   "name": "Land_18M",
   "parentLayerId": 5,
   "defaultVisibility": true,
   "subLayerIds": null,
   "minScale": 0,
   "maxScale": 0
  },
  {
   "id": 8,
   "name": "WORLD_OpenWater",
   "parentLayerId": 5,
   "defaultVisibility": true,
   "subLayerIds": null,
   "minScale": 0,
   "maxScale": 0
  },
  {
   "id": 9,
   "name": "DGC_Base_147m",
   "parentLayerId": 0,
   "defaultVisibility": true,
   "subLayerIds": [
    10,
    11,
    12,
    13
   ],
   "minScale": 225000000,
   "maxScale": 125000001
  },
  {
   "id": 10,
   "name": "Waterbody_147M",
   "parentLayerId": 9,
   "defaultVisibility": true,
   "subLayerIds": null,
   "minScale": 0,
   "maxScale": 0
  },
  {
   "id": 11,
   "name": "AdminLine",
   "parentLayerId": 9,
   "defaultVisibility": true,
   "subLayerIds": null,
   "minScale": 0,
   "maxScale": 0
  },
  {
   "id": 12,
   "name": "Land_18M",
   "parentLayerId": 9,
   "defaultVisibility": true,
   "subLayerIds": null,
   "minScale": 0,
   "maxScale": 0
  },
  {
   "id": 13,
   "name": "WORLD_OpenWater",
   "parentLayerId": 9,
   "defaultVisibility": true,
   "subLayerIds": null,
   "minScale": 0,
   "maxScale": 0
  },
  {
   "id": 14,
   "name": "DGC_Base_74m",
   "parentLayerId": 0,
   "defaultVisibility": true,
   "subLayerIds": [
    15,
    17,
    18,
    19,
    20,
    21,
    22
   ],
   "minScale": 125000000,
   "maxScale": 50000001
  },
  {
   "id": 15,
   "name": "BASE CONSTRAINTS",
   "parentLayerId": 14,
   "defaultVisibility": true,
   "subLayerIds": [
    16
   ],
   "minScale": 0,
   "maxScale": 0
  },
  {
   "id": 16,
   "name": "SmallScalePopulatedPlaces",
   "parentLayerId": 15,
   "defaultVisibility": true,
   "subLayerIds": null,
   "minScale": 0,
   "maxScale": 0
  },
  {
   "id": 17,
   "name": "74m_International Labels",
   "parentLayerId": 14,
   "defaultVisibility": true,
   "subLayerIds": null,
   "minScale": 0,
   "maxScale": 0
  },
  {
   "id": 18,
   "name": "74m_Marine_Waterbodies_Labels",
   "parentLayerId": 14,
   "defaultVisibility": true,
   "subLayerIds": null,
   "minScale": 0,
   "maxScale": 0
  },
  {
   "id": 19,
   "name": "74m_Waterbody_18M",
   "parentLayerId": 14,
   "defaultVisibility": true,
   "subLayerIds": null,
   "minScale": 0,
   "maxScale": 0
  },
  {
   "id": 20,
   "name": "74m_AdminLine",
   "parentLayerId": 14,
   "defaultVisibility": true,
   "subLayerIds": null,
   "minScale": 0,
   "maxScale": 0
  },
  {
   "id": 21,
   "name": "74m_Land_18M",
   "parentLayerId": 14,
   "defaultVisibility": true,
   "subLayerIds": null,
   "minScale": 0,
   "maxScale": 0
  },
  {
   "id": 22,
   "name": "74m_WORLD_OpenWater",
   "parentLayerId": 14,
   "defaultVisibility": true,
   "subLayerIds": null,
   "minScale": 0,
   "maxScale": 0
  },
  {
   "id": 23,
   "name": "DGC_Base_37m",
   "parentLayerId": 0,
   "defaultVisibility": true,
   "subLayerIds": [
    24,
    26,
    27,
    28,
    29,
    30,
    31
   ],
   "minScale": 50000000,
   "maxScale": 25000001
  },
  {
   "id": 24,
   "name": "BASE_CONSTRAINTS",
   "parentLayerId": 23,
   "defaultVisibility": true,
   "subLayerIds": [
    25
   ],
   "minScale": 0,
   "maxScale": 0
  },
  {
   "id": 25,
   "name": "SmallScalePopulatedPlaces",
   "parentLayerId": 24,
   "defaultVisibility": true,
   "subLayerIds": null,
   "minScale": 0,
   "maxScale": 0
  },
  {
   "id": 26,
   "name": "37m_International Labels",
   "parentLayerId": 23,
   "defaultVisibility": true,
   "subLayerIds": null,
   "minScale": 0,
   "maxScale": 0
  },
  {
   "id": 27,
   "name": "37m_Marine_Waterbodies_Labels",
   "parentLayerId": 23,
   "defaultVisibility": true,
   "subLayerIds": null,
   "minScale": 0,
   "maxScale": 0
  },
  {
   "id": 28,
   "name": "37m_Waterbody_18M",
   "parentLayerId": 23,
   "defaultVisibility": true,
   "subLayerIds": null,
   "minScale": 0,
   "maxScale": 0
  },
  {
   "id": 29,
   "name": "37m_AdminLine",
   "parentLayerId": 23,
   "defaultVisibility": true,
   "subLayerIds": null,
   "minScale": 0,
   "maxScale": 0
  },
  {
   "id": 30,
   "name": "37m_Land_18M",
   "parentLayerId": 23,
   "defaultVisibility": true,
   "subLayerIds": null,
   "minScale": 0,
   "maxScale": 0
  },
  {
   "id": 31,
   "name": "37m_WORLD_OpenWater",
   "parentLayerId": 23,
   "defaultVisibility": true,
   "subLayerIds": null,
   "minScale": 0,
   "maxScale": 0
  },
  {
   "id": 32,
   "name": "DGC_Base_18m",
   "parentLayerId": 0,
   "defaultVisibility": true,
   "subLayerIds": [
    33,
    35,
    36,
    37,
    38,
    39,
    40
   ],
   "minScale": 25000000,
   "maxScale": 15000001
  },
  {
   "id": 33,
   "name": "BASE_CONSTRAINTS",
   "parentLayerId": 32,
   "defaultVisibility": true,
   "subLayerIds": [
    34
   ],
   "minScale": 0,
   "maxScale": 0
  },
  {
   "id": 34,
   "name": "SmallScalePopulatedPlaces",
   "parentLayerId": 33,
   "defaultVisibility": true,
   "subLayerIds": null,
   "minScale": 0,
   "maxScale": 0
  },
  {
   "id": 35,
   "name": "18m_International_Labels",
   "parentLayerId": 32,
   "defaultVisibility": true,
   "subLayerIds": null,
   "minScale": 0,
   "maxScale": 0
  },
  {
   "id": 36,
   "name": "18m_Marine_Waterbodies_Labels",
   "parentLayerId": 32,
   "defaultVisibility": true,
   "subLayerIds": null,
   "minScale": 0,
   "maxScale": 0
  },
  {
   "id": 37,
   "name": "18m_Waterbody_18M",
   "parentLayerId": 32,
   "defaultVisibility": true,
   "subLayerIds": null,
   "minScale": 0,
   "maxScale": 0
  },
  {
   "id": 38,
   "name": "18m_AdminLine",
   "parentLayerId": 32,
   "defaultVisibility": true,
   "subLayerIds": null,
   "minScale": 0,
   "maxScale": 0
  },
  {
   "id": 39,
   "name": "18m_Land_18M",
   "parentLayerId": 32,
   "defaultVisibility": true,
   "subLayerIds": null,
   "minScale": 0,
   "maxScale": 0
  },
  {
   "id": 40,
   "name": "18m_WORLD_OpenWater",
   "parentLayerId": 32,
   "defaultVisibility": true,
   "subLayerIds": null,
   "minScale": 0,
   "maxScale": 0
  }
 ],
 "tables": [],
 "spatialReference": {
  "wkid": 4326,
  "latestWkid": 4326
 },
 "singleFusedMapCache": true,
 "tileInfo": {
  "rows": 512,
  "cols": 512,
  "dpi": 96,
  "format": "JPEG",
  "compressionQuality": 90,
  "origin": {
   "x": -180,
   "y": 90
  },
  "spatialReference": {
   "wkid": 4326,
   "latestWkid": 4326
  },
  "lods": [
   {
    "level": 0,
    "resolution": 0.3515625065578945,
    "scale": 1.47748799285417E8
   },
   {
    "level": 1,
    "resolution": 0.17578125327894775,
    "scale": 7.38743996427087E7
   },
   {
    "level": 2,
    "resolution": 0.08789062663947399,
    "scale": 3.69371998213544E7
   },
   {
    "level": 3,
    "resolution": 0.043945313319736994,
    "scale": 1.84685999106772E7
   },
   {
    "level": 4,
    "resolution": 0.021972656659868472,
    "scale": 9234299.95533859
   },
   {
    "level": 5,
    "resolution": 0.010986328329934226,
    "scale": 4617149.97766929
   },
   {
    "level": 6,
    "resolution": 0.005493164164967124,
    "scale": 2308574.98883465
   },
   {
    "level": 7,
    "resolution": 0.0027465820824835504,
    "scale": 1154287.49441732
   },
   {
    "level": 8,
    "resolution": 0.0013732910412417797,
    "scale": 577143.747208662
   },
   {
    "level": 9,
    "resolution": 6.866455206208899E-4,
    "scale": 288571.873604331
   },
   {
    "level": 10,
    "resolution": 3.433227603104438E-4,
    "scale": 144285.936802165
   },
   {
    "level": 11,
    "resolution": 1.716613801552224E-4,
    "scale": 72142.9684010827
   },
   {
    "level": 12,
    "resolution": 8.583069007761132E-5,
    "scale": 36071.4842005414
   },
   {
    "level": 13,
    "resolution": 4.291534503880566E-5,
    "scale": 18035.7421002707
   },
   {
    "level": 14,
    "resolution": 2.1457672519402802E-5,
    "scale": 9017.87105013534
   },
   {
    "level": 15,
    "resolution": 1.0728836259701401E-5,
    "scale": 4508.93552506767
   }
  ]
 },
 "initialExtent": {
  "xmin": -139.00081192106748,
  "ymin": -15.008169040744676,
  "xmax": 72.52504693936768,
  "ymax": 86.7072605943065,
  "spatialReference": {
   "cs": "gcs",
   "wkid": 4326
  }
 },
 "fullExtent": {
  "xmin": -179.99999550841463,
  "ymin": -88.99999992161119,
  "xmax": 179.99999550841463,
  "ymax": 88.99999992161118,
  "spatialReference": {
   "cs": "gcs",
   "wkid": 4326
  }
 },
 "minScale": 1.47748799285417E8,
 "maxScale": 1.84685999106772E7,
 "units": "esriDecimalDegrees",
 "supportedImageFormatTypes": "PNG32,PNG24,PNG,JPG,DIB,TIFF,EMF,PS,PDF,GIF,SVG,SVGZ,BMP",
 "documentInfo": {
  "Title": "Dark Gray Canvas Map: Small Scale",
  "Author": "Andy Skinner",
  "Comments": "Dark Gray Canvas Basemap; World Small Scale coverage. Combined file (Base and Reference layers).",
  "Subject": "Dark Gray Canvas Basemap; World Small Scale coverage.",
  "Category": "",
  "AntialiasingMode": "None",
  "TextAntialiasingMode": "Force",
  "Keywords": ""
 },
 "capabilities": "Map,Query,Data",
 "supportedQueryFormats": "JSON, AMF",
 "exportTilesAllowed": false,
 "maxRecordCount": 1000,
 "maxImageHeight": 4096,
 "maxImageWidth": 4096,
 "supportedExtensions": ""
}
