{
 "currentVersion": 10.22,
 "serviceDescription": "Esri boundaries in WGS84",
 "mapName": "Layers",
 "description": "",
 "copyrightText": "",
 "supportsDynamicLayers": false,
 "layers": [
  {
   "id": 0,
   "name": "USDoS_LSIB4b_Global_Sept2012_wgs84",
   "parentLayerId": -1,
   "defaultVisibility": true,
   "subLayerIds": null,
   "minScale": 0,
   "maxScale": 0
  },
  {
   "id": 1,
   "name": "WorldCountries_wgs84",
   "parentLayerId": -1,
   "defaultVisibility": true,
   "subLayerIds": null,
   "minScale": 0,
   "maxScale": 0
  },
  {
   "id": 2,
   "name": "latlonggrid",
   "parentLayerId": -1,
   "defaultVisibility": false,
   "subLayerIds": null,
   "minScale": 0,
   "maxScale": 0
  },
  {
   "id": 3,
   "name": "World30",
   "parentLayerId": -1,
   "defaultVisibility": true,
   "subLayerIds": null,
   "minScale": 0,
   "maxScale": 0
  }
 ],
 "tables": [],
 "spatialReference": {
  "wkid": 4326,
  "latestWkid": 4326
 },
 "singleFusedMapCache": true,
 "tileInfo": {
  "rows": 512,
  "cols": 512,
  "dpi": 96,
  "format": "JPEG",
  "compressionQuality": 90,
  "origin": {
   "x": -180,
   "y": 90
  },
  "spatialReference": {
   "wkid": 4326,
   "latestWkid": 4326
  },
  "lods": [
   {
    "level": 0,
    "resolution": 0.3515625065578945,
    "scale": 1.47748799285417E8
   },
   {
    "level": 1,
    "resolution": 0.17578125327894775,
    "scale": 7.38743996427087E7
   },
   {
    "level": 2,
    "resolution": 0.08789062663947399,
    "scale": 3.69371998213544E7
   },
   {
    "level": 3,
    "resolution": 0.043945313319736994,
    "scale": 1.84685999106772E7
   },
   {
    "level": 4,
    "resolution": 0.021972656659868472,
    "scale": 9234299.95533859
   },
   {
    "level": 5,
    "resolution": 0.010986328329934226,
    "scale": 4617149.97766929
   },
   {
    "level": 6,
    "resolution": 0.005493164164967124,
    "scale": 2308574.98883465
   },
   {
    "level": 7,
    "resolution": 0.0027465820824835504,
    "scale": 1154287.49441732
   },
   {
    "level": 8,
    "resolution": 0.0013732910412417797,
    "scale": 577143.747208662
   },
   {
    "level": 9,
    "resolution": 6.866455206208899E-4,
    "scale": 288571.873604331
   },
   {
    "level": 10,
    "resolution": 3.433227603104438E-4,
    "scale": 144285.936802165
   },
   {
    "level": 11,
    "resolution": 1.716613801552224E-4,
    "scale": 72142.9684010827
   },
   {
    "level": 12,
    "resolution": 8.583069007761132E-5,
    "scale": 36071.4842005414
   },
   {
    "level": 13,
    "resolution": 4.291534503880566E-5,
    "scale": 18035.7421002707
   },
   {
    "level": 14,
    "resolution": 2.1457672519402802E-5,
    "scale": 9017.87105013534
   },
   {
    "level": 15,
    "resolution": 1.0728836259701401E-5,
    "scale": 4508.93552506767
   }
  ]
 },
 "initialExtent": {
  "xmin": -132.81447213542543,
  "ymin": -20.98437332791979,
  "xmax": 78.71138672500973,
  "ymax": 85.4824691101528,
  "spatialReference": {
   "cs": "gcs",
   "wkid": 4326
  }
 },
 "fullExtent": {
  "xmin": -179.99999999999997,
  "ymin": -90,
  "xmax": 180.00000033527613,
  "ymax": 90.00000016763812,
  "spatialReference": {
   "cs": "gcs",
   "wkid": 4326
  }
 },
 "minScale": 1.47748799285417E8,
 "maxScale": 4508.93552506767,
 "units": "esriDecimalDegrees",
 "supportedImageFormatTypes": "PNG32,PNG24,PNG,JPG,DIB,TIFF,EMF,PS,PDF,GIF,SVG,SVGZ,BMP",
 "documentInfo": {
  "Title": "",
  "Author": "",
  "Comments": "Natural Earth boundaries in WGS84",
  "Subject": "Natural Earth boundaries in WGS84",
  "Category": "",
  "AntialiasingMode": "None",
  "TextAntialiasingMode": "Force",
  "Keywords": "boundaries,natural earth,wgs84"
 },
 "capabilities": "Map,Query,Data",
 "supportedQueryFormats": "JSON, AMF",
 "exportTilesAllowed": false,
 "maxRecordCount": 1000,
 "maxImageHeight": 4096,
 "maxImageWidth": 4096,
 "supportedExtensions": ""
}
