View In:
ArcGIS JavaScript
ArcGIS.com Map
Google Earth
ArcMap
ArcGIS Explorer
View Footprint In:
ArcGIS.com Map
Service Description: In 2007, nearly 8% of the population, or about 24 million people, had diabetes. Of these, 5.7 million were undiagnosed.
Diabetes is a disease in which blood glucose levels are above normal. Most of the food we eat is turned into glucose, or sugar, for our bodies to use for energy. The pancreas, an organ that lies near the stomach, makes a hormone called insulin to help glucose get into the cells of our bodies. When you have diabetes, your body either doesn't make enough insulin or can't use its own insulin as well as it should. This causes sugar to build up in your blood.
Diabetes can cause serious health complications including heart disease, blindness, kidney failure, and lower-extremity amputations. Diabetes is the sixth leading cause of death in the United States.
For more information, see the National Diabetes Information Clearinghouse publication, Your Guide to Diabetes: Type 1 and Type 2.
Map Name: Layers
Legend
All Layers and Tables
Layers:
Description: This thematic map presents the adult diabetes rate in the United States in 2007. From http://www.cdc.gov/diabetes/consumer/learn.htm
Diabetes is a disease in which blood glucose levels are above normal. Most of the food we eat is turned into glucose, or sugar, for our bodies to use for energy. The pancreas, an organ that lies near the stomach, makes a hormone called insulin to help glucose get into the cells of our bodies. When you have diabetes, your body either doesn't make enough insulin or can't use its own insulin as well as it should. This causes sugar to build up in your blood.
Diabetes can cause serious health complications including heart disease, blindness, kidney failure, and lower-extremity amputations. Diabetes is the sixth leading cause of death in the United States.
For more information, see the National Diabetes Information Clearinghouse publication, Your Guide to Diabetes: Type 1 and Type 2. The geography depicts states at greater than 25m scale and counties at all other scales. The map has been designed to be displayed with semi-transparency of about 50% for overlay on other base maps, which is reflected in the legend for the map.
Copyright Text: Copyright:© 2010 ESRI
Spatial Reference:
102100
(3857)
Single Fused Map Cache: true
Tile Info:
- Height: 256
- Width: 256
- DPI: 96
-
Levels of Detail: 20
-
Level ID: 0
[ Start Tile, End Tile ]
- Resolution: 156543.03392800014
- Scale: 5.91657527591555E8
-
Level ID: 1
[ Start Tile, End Tile ]
- Resolution: 78271.51696399994
- Scale: 2.95828763795777E8
-
Level ID: 2
[ Start Tile, End Tile ]
- Resolution: 39135.75848200009
- Scale: 1.47914381897889E8
-
Level ID: 3
[ Start Tile, End Tile ]
- Resolution: 19567.87924099992
- Scale: 7.3957190948944E7
-
Level ID: 4
[ Start Tile, End Tile ]
- Resolution: 9783.93962049996
- Scale: 3.6978595474472E7
-
Level ID: 5
[ Start Tile, End Tile ]
- Resolution: 4891.96981024998
- Scale: 1.8489297737236E7
- Format: PNG32
- Compression Quality: 0.0
- Origin: X: -2.0037508342787E7
Y: 2.0037508342787E7
- Spatial Reference: 102100
(3857)
Initial Extent:
XMin: -1.3270797061119279E7
YMin: 2875309.506819858
XMax: -6211684.624928558
YMax: 6206740.947600094
Spatial Reference: 102100
Full Extent:
XMin: -2.0037507067161843E7
YMin: 557305.2572745753
XMax: -6679169.447596415
YMax: 1.175318461533845E7
Spatial Reference: 102100
Units: esriMeters
Supported Image Format Types: PNG32,PNG24,PNG,JPG,DIB,TIFF,EMF,PS,PDF,GIF,SVG,SVGZ,BMP
Document Info:
Title: USA Adult Diabetes Rates
Author: Esri
Comments: In 2007, nearly 8% of the population, or about 24 million people, had diabetes. Of these, 5.7 million were undiagnosed.
Diabetes is a disease in which blood glucose levels are above normal. Most of the food we eat is turned into glucose, or sugar, for our bodies to use for energy. The pancreas, an organ that lies near the stomach, makes a hormone called insulin to help glucose get into the cells of our bodies. When you have diabetes, your body either doesn't make enough insulin or can't use its own insulin as well as it should. This causes sugar to build up in your blood.
Diabetes can cause serious health complications including heart disease, blindness, kidney failure, and lower-extremity amputations. Diabetes is the sixth leading cause of death in the United States.
For more information, see the National Diabetes Information Clearinghouse publication, Your Guide to Diabetes: Type 1 and Type 2.
Subject: diabetes, food deserts
Category:
Keywords: United States,2007,diabetes,CDC
AntialiasingMode: None
TextAntialiasingMode: Force
Supports Dynamic Layers: false
MaxRecordCount: 1000
MaxImageHeight: 4096
MaxImageWidth: 4096
Supported Query Formats: JSON, AMF
Min Scale: 1.47914381897889E8
Max Scale: 288895.277144
Child Resources:
Info
Supported Operations:
Export Map
Identify
Find
Return Updates