View In:
ArcGIS JavaScript
ArcGIS.com Map
Google Earth
ArcMap
ArcGIS Explorer
View Footprint In:
ArcGIS.com Map
Service Description: The map show how many cellular phone subscriptions there are by year, per 100 people, by country.
Map Name: Layers
Legend
All Layers and Tables
Layers:
Description:
Copyright Text: World Bank
Spatial Reference:
102100
(3857)
Single Fused Map Cache: true
Tile Info:
- Height: 256
- Width: 256
- DPI: 96
-
Levels of Detail: 20
-
Level ID: 1
[ Start Tile, End Tile ]
- Resolution: 78271.5169639999
- Scale: 2.95828763795777E8
-
Level ID: 2
[ Start Tile, End Tile ]
- Resolution: 39135.7584820001
- Scale: 1.47914381897889E8
-
Level ID: 3
[ Start Tile, End Tile ]
- Resolution: 19567.8792409999
- Scale: 7.3957190948944E7
-
Level ID: 4
[ Start Tile, End Tile ]
- Resolution: 9783.93962049996
- Scale: 3.6978595474472E7
-
Level ID: 5
[ Start Tile, End Tile ]
- Resolution: 4891.96981024998
- Scale: 1.8489297737236E7
- Format: PNG
- Compression Quality: 0.0
- Origin: X: -2.0037508342787E7
Y: 2.0037508342787E7
- Spatial Reference: 102100
(3857)
Initial Extent:
XMin: -1.3423565159326095E7
YMin: 3363201.017464579
XMax: 1.481288458543678E7
YMax: 1.668892678058552E7
Spatial Reference: 102100
Full Extent:
XMin: -1.26658320243E7
YMin: -2.0853109694399998E7
XMax: 1.93362464279E7
YMax: 1.5020595922200002E7
Spatial Reference: 102100
Units: esriMeters
Supported Image Format Types: PNG32,PNG24,PNG,JPG,DIB,TIFF,EMF,PS,PDF,GIF,SVG,SVGZ,BMP
Document Info:
Title: Global mobile subscriptions (World Bank)
Author: MapStoriesTeam
Comments: The map show how many cellular phone subscriptions there are by year, per 100 people, by country.
Subject: This time-enabled map depicts the number of cellular phone subscriptions per 100 people by country.
Category:
Keywords: World Bank,mobile,cellular,subscriptions,phone
AntialiasingMode: None
TextAntialiasingMode: Force
Supports Dynamic Layers: false
MaxRecordCount: 1000
MaxImageHeight: 4096
MaxImageWidth: 4096
Supported Query Formats: JSON, AMF
Min Scale: 2.95828763795777E8
Max Scale: 3.6978595474472E7
Child Resources:
Info
Supported Operations:
Export Map
Identify
Find
Return Updates
Generate KML