View In:
ArcGIS JavaScript
ArcGIS.com Map
Google Earth
ArcMap
ArcGIS Explorer
View Footprint In:
ArcGIS.com Map
Service Description: This map shows the median household income in the U.S. in 2011, by state, county, tract and block group.
The data shown is from Esri's 2011 Updated Demographics. The map is built between the scales of 1:73m and 1:36k, and switches from state, to county, to tract, to block group data as the map zooms in.
Map Name: Layers
Legend
All Layers and Tables
Layers:
Description: This map shows the median household income in the U.S. in 2011, by state, county, tract and block group.
Copyright Text: ©2012 Esri
Spatial Reference:
102100
(3857)
Single Fused Map Cache: true
Tile Info:
- Height: 256
- Width: 256
- DPI: 96
-
Levels of Detail: 20
-
Level ID: 0
[ Start Tile, End Tile ]
- Resolution: 156543.03392800014
- Scale: 5.91657527591555E8
-
Level ID: 1
[ Start Tile, End Tile ]
- Resolution: 78271.51696399994
- Scale: 2.95828763795777E8
-
Level ID: 2
[ Start Tile, End Tile ]
- Resolution: 39135.75848200009
- Scale: 1.47914381897889E8
-
Level ID: 3
[ Start Tile, End Tile ]
- Resolution: 19567.87924099992
- Scale: 7.3957190948944E7
-
Level ID: 4
[ Start Tile, End Tile ]
- Resolution: 9783.93962049996
- Scale: 3.6978595474472E7
-
Level ID: 5
[ Start Tile, End Tile ]
- Resolution: 4891.96981024998
- Scale: 1.8489297737236E7
- Format: PNG
- Compression Quality: 0.0
- Origin: X: -2.0037508342787E7
Y: 2.0037508342787E7
- Spatial Reference: 102100
(3857)
Initial Extent:
XMin: -2.0037507067161843E7
YMin: 1674800.7403999986
XMax: -6832269.933099999
YMax: 1.2006761940400004E7
Spatial Reference: 102100
Full Extent:
XMin: -1.98642499081E7
YMin: 2144435.340399999
XMax: -7452840.4081
YMax: 1.1537127340400003E7
Spatial Reference: 102100
Units: esriMeters
Supported Image Format Types: PNG32,PNG24,PNG,JPG,DIB,TIFF,EMF,PS,PDF,GIF,SVG,SVGZ,BMP
Document Info:
Title: USA Median Household Income 2011
Author: Esri: Andy Skinner
Comments: This map shows the median household income in the U.S. in 2011, by state, county, tract and block group.
The data shown is from Esri's 2011 Updated Demographics. The map is built between the scales of 1:73m and 1:36k, and switches from state, to county, to tract, to block group data as the map zooms in.
Subject: This map shows the median household income in the U.S. in 2011, by state, county, tract and block group.
Category:
Keywords: median household income,income,wages,demographics,census,census bureau,U.S.,USA,state,county,tract,block group,counties,multiscale
AntialiasingMode: None
TextAntialiasingMode: Force
Supports Dynamic Layers: false
MaxRecordCount: 1000
MaxImageHeight: 4096
MaxImageWidth: 4096
Supported Query Formats: JSON, AMF
Min Scale: 2.95828763795777E8
Max Scale: 1155581.108577
Child Resources:
Info
Supported Operations:
Export Map
Identify
Find
Return Updates
Generate KML