View In:
ArcGIS JavaScript
ArcGIS.com Map
Google Earth
ArcMap
ArcGIS Explorer
View Footprint In:
ArcGIS.com Map
Service Description: This dataset consists of estimates of human population for the year 2000 by 2.5 arc-minute grid cells and associated data sets dated circa 2000. A proportional allocation gridding algorithm, utilizing more than 300,000 national and sub-national administrative units, is used to assign population values to grid cells. The population density grids are derived by dividing the population count grids by the land area grid and represent persons per square kilometer.
Credit: Center for International Earth Science Information Network - CIESIN - Columbia University, and Centro Internacional de Agricultura Tropical - CIAT. 2005. Gridded Population of the World, Version 3 (GPWv3): Population Density Grid. Palisades, NY: NASA Socioeconomic Data and Applications Center (SEDAC). http://dx.doi.org/10.7927/H4XK8CG2. Accessed 29/09/2014.
Map Name: Layers
Legend
All Layers and Tables
Layers:
Description:
Copyright Text: CIESIN/CIAT
Spatial Reference:
54042
(54042)
Single Fused Map Cache: true
Tile Info:
- Height: 512
- Width: 512
- DPI: 96
-
Levels of Detail: 16
-
Level ID: 0
[ Start Tile, End Tile ]
- Resolution: 39091.947994829236
- Scale: 1.47748799285417E8
-
Level ID: 1
[ Start Tile, End Tile ]
- Resolution: 19545.973997414672
- Scale: 7.38743996427087E7
-
Level ID: 2
[ Start Tile, End Tile ]
- Resolution: 9772.986998707349
- Scale: 3.69371998213544E7
-
Level ID: 3
[ Start Tile, End Tile ]
- Resolution: 4886.493499353674
- Scale: 1.84685999106772E7
-
Level ID: 4
[ Start Tile, End Tile ]
- Resolution: 2443.246749676835
- Scale: 9234299.95533859
-
Level ID: 5
[ Start Tile, End Tile ]
- Resolution: 1221.623374838416
- Scale: 4617149.97766929
-
Level ID: 6
[ Start Tile, End Tile ]
- Resolution: 610.8116874192093
- Scale: 2308574.98883465
-
Level ID: 7
[ Start Tile, End Tile ]
- Resolution: 305.40584370960335
- Scale: 1154287.49441732
-
Level ID: 8
[ Start Tile, End Tile ]
- Resolution: 152.7029218548022
- Scale: 577143.747208662
-
Level ID: 10
[ Start Tile, End Tile ]
- Resolution: 38.17573046370042
- Scale: 144285.936802165
-
Level ID: 11
[ Start Tile, End Tile ]
- Resolution: 19.087865231850262
- Scale: 72142.9684010827
-
Level ID: 12
[ Start Tile, End Tile ]
- Resolution: 9.543932615925145
- Scale: 36071.4842005414
-
Level ID: 13
[ Start Tile, End Tile ]
- Resolution: 4.771966307962573
- Scale: 18035.7421002707
-
Level ID: 14
[ Start Tile, End Tile ]
- Resolution: 2.3859831539812832
- Scale: 9017.87105013534
-
Level ID: 15
[ Start Tile, End Tile ]
- Resolution: 1.1929915769906416
- Scale: 4508.93552506767
- Format: PNG
- Compression Quality: 0.0
- Origin: X: -1.803550816126541E7
Y: 2.505038728399674E7
- Spatial Reference: 54042
(54042)
Initial Extent:
XMin: -1.622549910588257E7
YMin: -4389261.67451099
XMax: 1.7599350589355446E7
YMax: 1.2635725068932436E7
Spatial Reference: 54042
(54042)
Full Extent:
XMin: -1.639591596634404E7
YMin: -7476457.790144386
XMax: 1.6395915966446219E7
YMax: 9721393.22454651
Spatial Reference: 54042
(54042)
Units: esriMeters
Supported Image Format Types: PNG32,PNG24,PNG,JPG,DIB,TIFF,EMF,PS,PDF,GIF,SVG,SVGZ,BMP
Document Info:
Title: Global population density, 2000
Author: Esri Story Maps
Comments: This dataset consists of estimates of human population for the year 2000 by 2.5 arc-minute grid cells and associated data sets dated circa 2000. A proportional allocation gridding algorithm, utilizing more than 300,000 national and sub-national administrative units, is used to assign population values to grid cells. The population density grids are derived by dividing the population count grids by the land area grid and represent persons per square kilometer.
Credit: Center for International Earth Science Information Network - CIESIN - Columbia University, and Centro Internacional de Agricultura Tropical - CIAT. 2005. Gridded Population of the World, Version 3 (GPWv3): Population Density Grid. Palisades, NY: NASA Socioeconomic Data and Applications Center (SEDAC). http://dx.doi.org/10.7927/H4XK8CG2. Accessed 29/09/2014.
Subject: Population densities in 2000, adjusted to match UN totals, persons per square km.
Category:
Keywords: population,population density
AntialiasingMode: None
TextAntialiasingMode: Force
Supports Dynamic Layers: false
MaxRecordCount: 1000
MaxImageHeight: 4096
MaxImageWidth: 4096
Supported Query Formats: JSON, AMF
Min Scale: 1.47748799285417E8
Max Scale: 4508.93552506767
Child Resources:
Info
Supported Operations:
Export Map
Identify
Find
Return Updates