View In:
ArcGIS JavaScript
ArcGIS.com Map
Google Earth
ArcMap
ArcGIS Explorer
View Footprint In:
ArcGIS.com Map
Service Description: These features were digitized from georefereneced overview maps of wartime Japanese Internment / Relocation Centers. The maps were published in the report "Confinement and Ethnicity: An Overview of World War II Japanese American Relocation Sites" by the National Park Service and downloaded from the publication's webpage:
https://www.nps.gov/parkhistory/online_books/anthropology74/index.htm Authors of the report: J. Burton, M. Farrell, F. Lord, and R. Lord
Map Name: Layers
Legend
All Layers and Tables
Dynamic Legend
Dynamic All Layers
Layers:
Description:
Copyright Text: NPS, Burton, et. al.
Spatial Reference:
102100
(3857)
Single Fused Map Cache: true
Tile Info:
- Height: 256
- Width: 256
- DPI: 96
-
Levels of Detail: 20
-
Level ID: 0
[ Start Tile, End Tile ]
- Resolution: 156543.03392800014
- Scale: 5.91657527591555E8
-
Level ID: 1
[ Start Tile, End Tile ]
- Resolution: 78271.51696399994
- Scale: 2.95828763795777E8
-
Level ID: 2
[ Start Tile, End Tile ]
- Resolution: 39135.75848200009
- Scale: 1.47914381897889E8
-
Level ID: 3
[ Start Tile, End Tile ]
- Resolution: 19567.87924099992
- Scale: 7.3957190948944E7
-
Level ID: 4
[ Start Tile, End Tile ]
- Resolution: 9783.93962049996
- Scale: 3.6978595474472E7
-
Level ID: 5
[ Start Tile, End Tile ]
- Resolution: 4891.96981024998
- Scale: 1.8489297737236E7
- Format: PNG32
- Compression Quality: 0.0
- Origin: X: -2.0037508342787E7
Y: 2.0037508342787E7
- Spatial Reference: 102100
(3857)
Initial Extent:
XMin: -1.3516610017925E7
YMin: 5142191.281955826
XMax: -1.3506736797974998E7
YMax: 5146934.299382788
Spatial Reference: 102100
Full Extent:
XMin: -1.3516161235199999E7
YMin: 3896906.4121999964
XMax: -1.0157881701399999E7
YMax: 5577110.933500003
Spatial Reference: 102100
Units: esriMeters
Supported Image Format Types: PNG32,PNG24,PNG,JPG,DIB,TIFF,EMF,PS,PDF,GIF,SVG,SVGZ,BMP
Document Info:
Title: Japanese relocation center boundaries
Author: Esri Story Maps
Comments: These features were digitized from georefereneced overview maps of wartime Japanese Internment / Relocation Centers. The maps were published in the report "Confinement and Ethnicity: An Overview of World War II Japanese American Relocation Sites" by the National Park Service and downloaded from the publication's webpage:
https://www.nps.gov/parkhistory/online_books/anthropology74/index.htm Authors of the report: J. Burton, M. Farrell, F. Lord, and R. Lord
Subject: Digitized boundaries around the WWII Japanese detention centers.
Category:
Keywords: Japanese internment,NPS,WWII,human rights
AntialiasingMode: Best
TextAntialiasingMode: Force
Supports Dynamic Layers: true
MaxRecordCount: 1000
MaxImageHeight: 4096
MaxImageWidth: 4096
Supported Query Formats: JSON, AMF
Min Scale: 1.8489297737236E7
Max Scale: 4513.988705
Child Resources:
Info
Dynamic Layer
Supported Operations:
Export Map
Identify
Find
Return Updates