View In:
ArcGIS JavaScript
ArcGIS.com Map
Google Earth
ArcMap
View Footprint In:
ArcGIS.com Map
Service Description:
Name: Japanese_internment/Jerome_schematic
Description: Japanese_internment/Jerome_schematic
Single Fused Map Cache: false
Extent:
XMin: -1.0184545001797581E7
YMin: 3946344.848855518
XMax: -1.0170442723417567E7
YMax: 3958295.036165268
Spatial Reference: 102100
(3857)
Initial Extent:
XMin: -1.0184545001797581E7
YMin: 3946344.848855518
XMax: -1.0170442723417567E7
YMax: 3958295.036165268
Spatial Reference: 102100
(3857)
Full Extent:
XMin: -1.0184545001797581E7
YMin: 3946344.848855518
XMax: -1.0170442723417567E7
YMax: 3958295.036165268
Spatial Reference: 102100
(3857)
Pixel Size X: 16.590915741192944
Pixel Size Y: 16.6902057398748
Band Count: 3
Pixel Type: U8
RasterFunction Infos: {"name":"Original","description":"A raster function template.","help":""}, {"name":"Stretched remap nodata white","description":"A raster function template.","help":""}
Mensuration Capabilities: Basic
Has Histograms: false
Has Colormap: false
Min Scale: 0
Max Scale: 0
Copyright Text:
Service Data Type: esriImageServiceDataTypeRGB
Min Values: N/A
Max Values: N/A
Mean Values: N/A
Standard Deviation Values: N/A
Object ID Field:
Fields:
None
Default Mosaic Method: Center
Allowed Mosaic Methods:
SortField:
SortValue: null
Mosaic Operator: First
Default Compression Quality: 75
Default Resampling Method: Nearest
Max Record Count: null
Max Image Height: 4100
Max Image Width: 15000
Max Download Image Count: null
Max Mosaic Image Count: null
Allow Raster Function: true
Allow Compute TiePoints: false
Supports Statistics: false
Supports Advanced Queries: false
Use StandardizedQueries: true
Raster Type Infos:
Name: Raster Dataset
Description: Supports all ArcGIS Raster Datasets
Help:
Has Raster Attribute Table: false
Edit Fields Info: null
Ownership Based AccessControl For Rasters: null
Child Resources:
Info
Key Properties
Legend
Supported Operations:
Export Image
Identify
Measure
Compute Histograms
Get Samples
Compute Class Statistics