View In:
ArcGIS JavaScript
ArcGIS.com Map
Google Earth
ArcMap
View Footprint In:
ArcGIS.com Map
Service Description: bovine density
Name: TheCostOfBeef/BovineDensity
Description: bovine density
Single Fused Map Cache: false
Extent:
XMin: -180
YMin: -90
XMax: 179.99999999997954
YMax: 89.99999999998977
Spatial Reference: 4326
(4326)
Initial Extent:
XMin: -180
YMin: -90
XMax: 179.99999999997954
YMax: 89.99999999998977
Spatial Reference: 4326
(4326)
Full Extent:
XMin: -180
YMin: -90
XMax: 179.99999999997954
YMax: 89.99999999998977
Spatial Reference: 4326
(4326)
Pixel Size X: 0.0833333333333286
Pixel Size Y: 0.0833333333333286
Band Count: 1
Pixel Type: F32
RasterFunction Infos: N/A
Mensuration Capabilities: Basic
Has Histograms: true
Has Colormap: false
Min Scale: 0
Max Scale: 0
Copyright Text:
Service Data Type: esriImageServiceDataTypeGeneric
Min Values: 1.2760665911933E-31
Max Values: 500
Mean Values: 10.986984060637
Standard Deviation Values: 28.425820849313
Object ID Field:
Fields:
None
Default Mosaic Method: Center
Allowed Mosaic Methods:
SortField:
SortValue: null
Mosaic Operator: First
Default Compression Quality: 75
Default Resampling Method: Bilinear
Max Record Count: null
Max Image Height: 4100
Max Image Width: 15000
Max Download Image Count: null
Max Mosaic Image Count: null
Allow Raster Function: true
Allow Compute TiePoints: false
Supports Statistics: false
Supports Advanced Queries: false
Use StandardizedQueries: true
Raster Type Infos:
Name: Raster Dataset
Description: Supports all ArcGIS Raster Datasets
Help:
Has Raster Attribute Table: false
Edit Fields Info: null
Ownership Based AccessControl For Rasters: null
Child Resources:
Info
Histograms
Key Properties
Legend
Supported Operations:
Export Image
Identify
Measure
Compute Histograms
Get Samples
Compute Class Statistics