View In:
ArcGIS JavaScript
ArcGIS.com Map
Google Earth
ArcMap
ArcGIS Explorer
View Footprint In:
ArcGIS.com Map
Service Description: Global lakes for overlay on thematic layers when using the Canvas basemap
Map Name: Layers
Legend
All Layers and Tables
Layers:
Description:
Copyright Text:
Spatial Reference:
4326
(4326)
Single Fused Map Cache: true
Tile Info:
- Height: 512
- Width: 512
- DPI: 96
-
Levels of Detail: 16
-
Level ID: 0
[ Start Tile, End Tile ]
- Resolution: 0.3515625065578945
- Scale: 1.47748799285417E8
-
Level ID: 1
[ Start Tile, End Tile ]
- Resolution: 0.17578125327894775
- Scale: 7.38743996427087E7
-
Level ID: 2
[ Start Tile, End Tile ]
- Resolution: 0.08789062663947399
- Scale: 3.69371998213544E7
-
Level ID: 3
[ Start Tile, End Tile ]
- Resolution: 0.043945313319736994
- Scale: 1.84685999106772E7
-
Level ID: 4
[ Start Tile, End Tile ]
- Resolution: 0.021972656659868472
- Scale: 9234299.95533859
-
Level ID: 5
[ Start Tile, End Tile ]
- Resolution: 0.010986328329934226
- Scale: 4617149.97766929
-
Level ID: 6
[ Start Tile, End Tile ]
- Resolution: 0.005493164164967124
- Scale: 2308574.98883465
-
Level ID: 7
[ Start Tile, End Tile ]
- Resolution: 0.0027465820824835504
- Scale: 1154287.49441732
-
Level ID: 8
[ Start Tile, End Tile ]
- Resolution: 0.0013732910412417797
- Scale: 577143.747208662
-
Level ID: 9
[ Start Tile, End Tile ]
- Resolution: 6.866455206208899E-4
- Scale: 288571.873604331
-
Level ID: 10
[ Start Tile, End Tile ]
- Resolution: 3.433227603104438E-4
- Scale: 144285.936802165
-
Level ID: 11
[ Start Tile, End Tile ]
- Resolution: 1.716613801552224E-4
- Scale: 72142.9684010827
-
Level ID: 12
[ Start Tile, End Tile ]
- Resolution: 8.583069007761132E-5
- Scale: 36071.4842005414
-
Level ID: 13
[ Start Tile, End Tile ]
- Resolution: 4.291534503880566E-5
- Scale: 18035.7421002707
-
Level ID: 14
[ Start Tile, End Tile ]
- Resolution: 2.1457672519402802E-5
- Scale: 9017.87105013534
-
Level ID: 15
[ Start Tile, End Tile ]
- Resolution: 1.0728836259701401E-5
- Scale: 4508.93552506767
- Format: PNG
- Compression Quality: 0.0
- Origin: X: -180.0
Y: 90.0
- Spatial Reference: 4326
(4326)
Initial Extent:
XMin: -136.49153763072113
YMin: -21.320323805459825
XMax: 121.33321944848316
YMax: 83.72511347066894
Spatial Reference: 4326
Full Extent:
XMin: -125.12331818199999
YMin: -16.606263635999937
XMax: 109.96500000000009
YMax: 67.04693639500005
Spatial Reference: 4326
Units: esriDecimalDegrees
Supported Image Format Types: PNG32,PNG24,PNG,JPG,DIB,TIFF,EMF,PS,PDF,GIF,SVG,SVGZ,BMP
Document Info:
Title: World major lakes
Author:
Comments: Global lakes for overlay on thematic layers when using the Canvas basemap
Subject:
Category:
Keywords:
AntialiasingMode: None
TextAntialiasingMode: Force
Supports Dynamic Layers: false
MaxRecordCount: 1000
MaxImageHeight: 4096
MaxImageWidth: 4096
Supported Query Formats: JSON, AMF
Min Scale: 1.47748799285417E8
Max Scale: 4508.93552506767
Child Resources:
Info
Supported Operations:
Export Map
Identify
Find
Return Updates