View In:
ArcGIS JavaScript
ArcGIS.com Map
Google Earth
ArcMap
ArcGIS Explorer
View Footprint In:
ArcGIS.com Map
Service Description: The biodiversity hotspots are regions known to hold especially high numbers of species found nowhere else, yet their remaining habitat combined covers a little more than two percent of Earth's land surface. According to the criteria developed by Myers et al. (2000), a hotspot must meet two thresholds in order to qualify: 1) it must have at least 1500 endemic, native vascular plant species, and 2) it must have already lost at least 70% of its primary, native vegetation.
Map Name: Layers
Legend
All Layers and Tables
Layers:
Description:
Copyright Text: Conservation Synthesis, Center for Applied Biodiversity Science at Conservation International
Spatial Reference:
54042
(54042)
Single Fused Map Cache: true
Tile Info:
- Height: 512
- Width: 512
- DPI: 96
-
Levels of Detail: 16
-
Level ID: 0
[ Start Tile, End Tile ]
- Resolution: 39091.947994829236
- Scale: 1.47748799285417E8
-
Level ID: 1
[ Start Tile, End Tile ]
- Resolution: 19545.973997414672
- Scale: 7.38743996427087E7
-
Level ID: 2
[ Start Tile, End Tile ]
- Resolution: 9772.986998707349
- Scale: 3.69371998213544E7
-
Level ID: 3
[ Start Tile, End Tile ]
- Resolution: 4886.493499353674
- Scale: 1.84685999106772E7
-
Level ID: 4
[ Start Tile, End Tile ]
- Resolution: 2443.246749676835
- Scale: 9234299.95533859
-
Level ID: 5
[ Start Tile, End Tile ]
- Resolution: 1221.623374838416
- Scale: 4617149.97766929
-
Level ID: 6
[ Start Tile, End Tile ]
- Resolution: 610.8116874192093
- Scale: 2308574.98883465
-
Level ID: 7
[ Start Tile, End Tile ]
- Resolution: 305.40584370960335
- Scale: 1154287.49441732
-
Level ID: 8
[ Start Tile, End Tile ]
- Resolution: 152.7029218548022
- Scale: 577143.747208662
-
Level ID: 10
[ Start Tile, End Tile ]
- Resolution: 38.17573046370042
- Scale: 144285.936802165
-
Level ID: 11
[ Start Tile, End Tile ]
- Resolution: 19.087865231850262
- Scale: 72142.9684010827
-
Level ID: 12
[ Start Tile, End Tile ]
- Resolution: 9.543932615925145
- Scale: 36071.4842005414
-
Level ID: 13
[ Start Tile, End Tile ]
- Resolution: 4.771966307962573
- Scale: 18035.7421002707
-
Level ID: 14
[ Start Tile, End Tile ]
- Resolution: 2.3859831539812832
- Scale: 9017.87105013534
-
Level ID: 15
[ Start Tile, End Tile ]
- Resolution: 1.1929915769906416
- Scale: 4508.93552506767
- Format: PNG
- Compression Quality: 0.0
- Origin: X: -1.803550816126541E7
Y: 2.505038728399674E7
- Spatial Reference: 54042
(54042)
Initial Extent:
XMin: -2.277074866649734E7
YMin: -7176837.27034121
XMax: 2.277074866649734E7
YMax: 1.567659385318771E7
Spatial Reference: 54042
(54042)
Full Extent:
XMin: -1.63959159661137E7
YMin: -7395516.476864388
XMax: 1.6395915966384355E7
YMax: 6309855.908137025
Spatial Reference: 54042
(54042)
Units: esriMeters
Supported Image Format Types: PNG32,PNG24,PNG,JPG,DIB,TIFF,EMF,PS,PDF,GIF,SVG,SVGZ,BMP
Document Info:
Title: Conservation International's Biodiversity Hotspots
Author: Esri Story Maps
Comments: The biodiversity hotspots are regions known to hold especially high numbers of species found nowhere else, yet their remaining habitat combined covers a little more than two percent of Earth's land surface. According to the criteria developed by Myers et al. (2000), a hotspot must meet two thresholds in order to qualify: 1) it must have at least 1500 endemic, native vascular plant species, and 2) it must have already lost at least 70% of its primary, native vegetation.
Subject: Location and extent of the 34 biodiversity hotspots as defined by Mitterneier et al. (2004)
Category:
Keywords: Conservation International,biodiversity hotspots,hotspots
AntialiasingMode: None
TextAntialiasingMode: Force
Supports Dynamic Layers: false
MaxRecordCount: 1000
MaxImageHeight: 4096
MaxImageWidth: 4096
Supported Query Formats: JSON, AMF
Min Scale: 1.47748799285417E8
Max Scale: 4508.93552506767
Child Resources:
Info
Supported Operations:
Export Map
Identify
Find
Return Updates