View In:
ArcGIS JavaScript
ArcGIS.com Map
Google Earth
ArcMap
ArcGIS Explorer
View Footprint In:
ArcGIS.com Map
Service Description: From http://www.cdc.gov/obesity/defining.html
Overweight and obesity are both labels for ranges of weight that are greater than what is generally considered healthy for a given height. The terms also identify ranges of weight that have been shown to increase the likelihood of certain diseases and other health problems.
Definitions for Adults
For adults, overweight and obesity ranges are determined by using weight and height to calculate a number called the "body mass index" (BMI). BMI is used because, for most people, it correlates with their amount of body fat.
An adult who has a BMI between 25 and 29.9 is considered overweight.
An adult who has a BMI of 30 or higher is considered obese.
See the table at this link for an example: http://www.cdc.gov/obesity/defining.html
It is important to remember that although BMI correlates with the amount of body fat, BMI does not directly measure body fat. As a result, some people, such as athletes, may have a BMI that identifies them as overweight even though they do not have excess body fat. For more information about BMI, visit Body Mass Index.
Other methods of estimating body fat and body fat distribution include measurements of skinfold thickness and waist circumference, calculation of waist-to-hip circumference ratios, and techniques such as ultrasound, computed tomography, and magnetic resonance imaging (MRI).
Map Name: Layers
Legend
All Layers and Tables
Layers:
Description: This thematic map presents the adult obesity rate in the United States in 2007. From http://www.cdc.gov/obesity/defining.html
Overweight and obesity are both labels for ranges of weight that are greater than what is generally considered healthy for a given height. The terms also identify ranges of weight that have been shown to increase the likelihood of certain diseases and other health problems.
Definitions for Adults
For adults, overweight and obesity ranges are determined by using weight and height to calculate a number called the "body mass index" (BMI). BMI is used because, for most people, it correlates with their amount of body fat.
An adult who has a BMI between 25 and 29.9 is considered overweight.
An adult who has a BMI of 30 or higher is considered obese.
See the table at this link for an example: http://www.cdc.gov/obesity/defining.html
It is important to remember that although BMI correlates with the amount of body fat, BMI does not directly measure body fat. As a result, some people, such as athletes, may have a BMI that identifies them as overweight even though they do not have excess body fat. For more information about BMI, visit Body Mass Index.
Other methods of estimating body fat and body fat distribution include measurements of skinfold thickness and waist circumference, calculation of waist-to-hip circumference ratios, and techniques such as ultrasound, computed tomography, and magnetic resonance imaging (MRI).
The geography depicts states at greater than 25m scale and counties at all other scales. The map has been designed to be displayed with semi-transparency of about 50% for overlay on other base maps, which is reflected in the legend for the map.
Copyright Text: Copyright:© 2010 ESRI
Spatial Reference:
102100
(3857)
Single Fused Map Cache: true
Tile Info:
- Height: 256
- Width: 256
- DPI: 96
-
Levels of Detail: 20
-
Level ID: 1
[ Start Tile, End Tile ]
- Resolution: 78271.5169639999
- Scale: 2.95828763795777E8
-
Level ID: 2
[ Start Tile, End Tile ]
- Resolution: 39135.7584820001
- Scale: 1.47914381897889E8
-
Level ID: 3
[ Start Tile, End Tile ]
- Resolution: 19567.8792409999
- Scale: 7.3957190948944E7
-
Level ID: 4
[ Start Tile, End Tile ]
- Resolution: 9783.93962049996
- Scale: 3.6978595474472E7
-
Level ID: 5
[ Start Tile, End Tile ]
- Resolution: 4891.96981024998
- Scale: 1.8489297737236E7
- Format: PNG
- Compression Quality: 0.0
- Origin: X: -2.0037508342787E7
Y: 2.0037508342787E7
- Spatial Reference: 102100
(3857)
Initial Extent:
XMin: -1.885333517810638E7
YMin: 5094321.571834523
XMax: -1555329.9290624484
YMax: 9829748.348156504
Spatial Reference: 102100
(3857)
Full Extent:
XMin: -2.0037508231469758E7
YMin: 557305.2572745753
XMax: -6679169.447596415
YMax: 1.175318461533845E7
Spatial Reference: 102100
(3857)
Units: esriMeters
Supported Image Format Types: PNG32,PNG24,PNG,JPG,DIB,TIFF,EMF,PS,PDF,GIF,SVG,SVGZ,BMP
Document Info:
Title: USA Adult Obesity Rates
Author: Esri
Comments: From http://www.cdc.gov/obesity/defining.html
Overweight and obesity are both labels for ranges of weight that are greater than what is generally considered healthy for a given height. The terms also identify ranges of weight that have been shown to increase the likelihood of certain diseases and other health problems.
Definitions for Adults
For adults, overweight and obesity ranges are determined by using weight and height to calculate a number called the "body mass index" (BMI). BMI is used because, for most people, it correlates with their amount of body fat.
An adult who has a BMI between 25 and 29.9 is considered overweight.
An adult who has a BMI of 30 or higher is considered obese.
See the table at this link for an example: http://www.cdc.gov/obesity/defining.html
It is important to remember that although BMI correlates with the amount of body fat, BMI does not directly measure body fat. As a result, some people, such as athletes, may have a BMI that identifies them as overweight even though they do not have excess body fat. For more information about BMI, visit Body Mass Index.
Other methods of estimating body fat and body fat distribution include measurements of skinfold thickness and waist circumference, calculation of waist-to-hip circumference ratios, and techniques such as ultrasound, computed tomography, and magnetic resonance imaging (MRI).
Subject: obesity, food deserts
Category:
Keywords: United States,2007,obesity,CDC
AntialiasingMode: Best
TextAntialiasingMode: Force
Supports Dynamic Layers: false
MaxRecordCount: 1000
MaxImageHeight: 4096
MaxImageWidth: 4096
Supported Query Formats: JSON, AMF
Min Scale: 2.95828763795777E8
Max Scale: 577790.554289
Child Resources:
Info
Supported Operations:
Export Map
Identify
Find
Return Updates