View In:
ArcGIS JavaScript
ArcGIS.com Map
Google Earth
ArcMap
ArcGIS Explorer
View Footprint In:
ArcGIS.com Map
Service Description: This is a collection of georefereneced overview maps of wartime Japanese Internment / Relocation Centers. The maps were published in the report "Confinement and Ethnicity: An Overview of World War II Japanese American Relocation Sites" by the National Park Service and downloaded from the publication's webpage: https://www.nps.gov/parkhistory/online_books/anthropology74/index.htm Authors of the report: J. Burton, M. Farrell, F. Lord, and R. Lord
Map Name: Layers
Legend
All Layers and Tables
Dynamic Legend
Dynamic All Layers
Layers:
Description:
Copyright Text: NPS, Burton, et. al.
Spatial Reference:
102100
(3857)
Single Fused Map Cache: true
Tile Info:
- Height: 256
- Width: 256
- DPI: 96
-
Levels of Detail: 17
-
Level ID: 0
[ Start Tile, End Tile ]
- Resolution: 19567.87924099992
- Scale: 7.3957190948944E7
-
Level ID: 1
[ Start Tile, End Tile ]
- Resolution: 9783.93962049996
- Scale: 3.6978595474472E7
-
Level ID: 2
[ Start Tile, End Tile ]
- Resolution: 4891.96981024998
- Scale: 1.8489297737236E7
- Format: PNG32
- Compression Quality: 0.0
- Origin: X: -2.0037508342787E7
Y: 2.0037508342787E7
- Spatial Reference: 102100
(3857)
Initial Extent:
XMin: -1.0186629911787473E7
YMin: 3950189.348440591
XMax: -1.0171640050823495E7
YMax: 3958893.138677738
Spatial Reference: 102100
Full Extent:
XMin: -1.3523704832803242E7
YMin: 3894806.0689966823
XMax: -1.0157077742312303E7
YMax: 5577613.154964756
Spatial Reference: 102100
Units: esriMeters
Supported Image Format Types: PNG32,PNG24,PNG,JPG,DIB,TIFF,EMF,PS,PDF,GIF,SVG,SVGZ,BMP
Document Info:
Title: Japanese relocation center maps (NPS)
Author: Esri Story Maps
Comments: This is a collection of georefereneced overview maps of wartime Japanese Internment / Relocation Centers. The maps were published in the report "Confinement and Ethnicity: An Overview of World War II Japanese American Relocation Sites" by the National Park Service and downloaded from the publication's webpage: https://www.nps.gov/parkhistory/online_books/anthropology74/index.htm Authors of the report: J. Burton, M. Farrell, F. Lord, and R. Lord
Subject: A collection of maps of Japanese internment camps or Relocation Centers.
Category:
Keywords: Japanese internment,WWII,NPS
AntialiasingMode: Best
TextAntialiasingMode: Force
Supports Dynamic Layers: true
MaxRecordCount: 1000
MaxImageHeight: 4096
MaxImageWidth: 4096
Supported Query Formats: JSON, AMF
Min Scale: 7.3957190948944E7
Max Scale: 1128.497176
Child Resources:
Info
Dynamic Layer
Supported Operations:
Export Map
Find
Return Updates