View In:
ArcGIS JavaScript
ArcGIS.com Map
Google Earth
ArcMap
View Footprint In:
ArcGIS.com Map
Service Description:
Name: Japanese_internment/Topaz_schematic
Description: Japanese_internment/Topaz_schematic
Single Fused Map Cache: false
Extent:
XMin: -1.2559920110507427E7
YMin: 4769470.783110457
XMax: -1.2542799700765403E7
YMax: 4791637.521313129
Spatial Reference: 102100
(3857)
Initial Extent:
XMin: -1.2559920110507427E7
YMin: 4769470.783110457
XMax: -1.2542799700765403E7
YMax: 4791637.521313129
Spatial Reference: 102100
(3857)
Full Extent:
XMin: -1.2559920110507427E7
YMin: 4769470.783110457
XMax: -1.2542799700765403E7
YMax: 4791637.521313129
Spatial Reference: 102100
(3857)
Pixel Size X: 17.069202135616944
Pixel Size Y: 17.06446358943222
Band Count: 3
Pixel Type: U8
RasterFunction Infos: {"name":"Original","description":"A raster function template.","help":""}, {"name":"Stretched remap black","description":"A raster function template.","help":""}, {"name":"Stretched remap white","description":"A raster function template.","help":""}
Mensuration Capabilities: Basic
Has Histograms: true
Has Colormap: false
Min Scale: 0
Max Scale: 0
Copyright Text:
Service Data Type: esriImageServiceDataTypeRGB
Min Values: 0, 0, 0
Max Values: 255, 255, 255
Mean Values: 244.86185832911, 244.86185832911, 244.86185832911
Standard Deviation Values: 43.483309707879, 43.483309707879, 43.483309707879
Object ID Field:
Fields:
None
Default Mosaic Method: Center
Allowed Mosaic Methods:
SortField:
SortValue: null
Mosaic Operator: First
Default Compression Quality: 75
Default Resampling Method: Nearest
Max Record Count: null
Max Image Height: 4100
Max Image Width: 15000
Max Download Image Count: null
Max Mosaic Image Count: null
Allow Raster Function: true
Allow Compute TiePoints: false
Supports Statistics: false
Supports Advanced Queries: false
Use StandardizedQueries: true
Raster Type Infos:
Name: Raster Dataset
Description: Supports all ArcGIS Raster Datasets
Help:
Has Raster Attribute Table: false
Edit Fields Info: null
Ownership Based AccessControl For Rasters: null
Child Resources:
Info
Histograms
Key Properties
Legend
Supported Operations:
Export Image
Identify
Measure
Compute Histograms
Get Samples
Compute Class Statistics